Workbook
Name \0: #REF!
Name \0: #REF!
Name \0: #REF!
Name \0: #REF!
Name \0: #REF!
Name \0: #REF!
Name \0: #REF!
Name \0: #REF!
Name \0: #REF!
Name \0: #REF!
Name \0: #REF!
Name \0: #REF!
Name \0: #REF!
Name \0: #REF!
Name \0: #REF!
Name \0: #REF!
Name \0: #REF!
Name \0: #REF!
Name \0: 'Tabla 53'!#REF!
Name \0: 'Tabla 54'!#REF!
Name \0: 'Tabla 55'!#REF!
Name \0: 'Tabla 56'!#REF!
Name \0: 'Tabla 57'!#REF!
Name \0: 'Tabla 58'!#REF!
Name \0: #REF!
Name \0: #REF!
Name \0: #REF!
Name \0: #REF!
Name \0: #REF!
Name \0: #REF!
Name \0: #REF!
Name \0: #REF!
Name \A: #REF!
Name \A: #REF!
Name \A: #REF!
Name \A: #REF!
Name \A: #REF!
Name \A: #REF!
Name \A: #REF!
Name \A: #REF!
Name \A: #REF!
Name \A: #REF!
Name \A: #REF!
Name \A: #REF!
Name \A: #REF!
Name \A: #REF!
Name \A: #REF!
Name \A: #REF!
Name \A: #REF!
Name \A: #REF!
Name \A: 'Tabla 53'!#REF!
Name \A: 'Tabla 54'!#REF!
Name \A: 'Tabla 55'!#REF!
Name \A: 'Tabla 56'!#REF!
Name \A: 'Tabla 57'!#REF!
Name \A: 'Tabla 58'!#REF!
Name \A: #REF!
Name \A: #REF!
Name \A: #REF!
Name \A: #REF!

Sheet Índice
B2: MINISTERIO DE HACIENDA Y ECONOMÍA
B3: DIRECCIÓN GENERAL DE PRESUPUESTO
B4: DIRECCIÓN DE ESTUDIOS ECONÓMICOS Y SEGUIMIENTO FINANCIERO
B9: Índice
B11: Tablas | K11: Gráficos
B13: Tabla Resumen de las principales variables presupuestarias del Presupuesto General del Estado 2025-2030 | K13: Gráfico 1. Crecimiento de la Economía Mundial
B14: Tabla 1. Proyecciones fiscales de la Economía Mundial: balance global y deuda pública | K14: Gráfico 2. Crecimiento de Estados Unidos
B15: Tabla 2. Tasas de Crecimiento por Actividad Económica | K15: Gráfico 3. Crecimiento de la zona del euro
B16: Tabla 3. Recaudación de Ingresos por Clasificación Económica | K16: Gráfico 4. Crecimiento de China
B17: Tabla 4. Gastos del Gobierno Central por Clasificación Económica | K17: Gráfico 5. Crecimiento de América Latina y el Caribe
B18: Tabla 5. Fideicomisos del Gobierno Central e Instituciones Públicas | K18: Gráfico 6. América Latina y el Caribe: tasa de crecimiento del PIB 2025-2027
B19: Tabla 6. Gastos del Gobierno Central por Clasificación Institucional | K19: Gráfico 7. América Latina y el Caribe: pronóstico de tasa de crecimiento del PIB, 2026
B20: Tabla 7. Ejecución en Programas Prioritarios | K20: Gráfico 8. América Latina (16 países) *: indicadores fiscales del gobierno central, 2019-2026
B21: Tabla 8. Ejecución en Programas Orientados a Resultados | K21: Gráfico 9. El Caribe (12 países)*: indicadores fiscales del gobierno central, 2020-2026
B22: Tabla 9. Gastos del Gobierno Central por Clasificación Funcional | K22: Gráfico 10. Evolución Mensual de los Precios del Petróleo
B23: Tabla 10. Incidencia del gasto del Gobierno Central en el Cambio Climático | K23: Gráfico 11. Crecimiento Interanual del Producto Interno Bruto (PIB)
... B28: Tabla 15. Composición de la Deuda del SPNF | K28: Gráfico 16. Distribución del Gasto por Clasificación Económica
B29: Tabla 16. Evolución y estimación del Stock de la Deuda Pública al cierre del período | I29: Hasta aquí a espera de información de Crédito Público | K29: Gráfico 17. Servicio de Deuda Mensual 2027
B30: Tabla 17. Amortización de la Deuda Pública | K30: Gráfico 18. Evolución Deuda SPNF (%PIB)
B31: Tabla 18. Comparativo Cuenta Ahorro Inversión Financiamiento | K31: Gráfico 19. Servicio de Deuda Trimestral 2028 – 2030
B32: Tabla 19. Panorama Macroeconómico 2025-2030 | K32: Gráfico 20. Evolución Deuda SPNF (%PIB)
B33: Tabla 20. Comparativo de proyecciones Macroeconómicas 2026
B34: Tabla 21. Proyecciones de la tasa de interés a corto plazo y largo plazo 2025-2030
A38: Pendiente de Hacienda | B38: Cuadros de politica de ingresos
B42: Tabla a. Principales magnitudes del PGE 2027 consolidado | E42: Hasta aquí ya que el vínculo depende del nombre de la pestaña
B43: Tabla 2. Niveles e instrumentos de articulación entre planificación y Política de Gasto 2027
B44: Tabla 3. Objetivos centrales de Meta RD 2036: metas de mediano y largo plazo
B45: Tabla 4. Agregación causal de las diez metas priorizadas y sus principales canales presupuestarios
B46: Tabla 5. Vinculación agregada de las diez metas priorizadas con la clasificación funcional del gasto, PGE 2027
B47: Tabla 22. Programas Prioritarios con financiamiento protegido 2027 Valores en millones de RD$
B48: Tabla 23. Programas Prioritarios desagregados por productos.
B49: Tabla 24. Programas Presupuestarios Orientados a Resultados 2027 Valores en millones
B50: Tabla 25. Gastos del Gobierno Central por Clasificación Económica
B51: Tabla 26. Gastos del Gobierno Central por Clasificación Institucional para 2027
B52: Tabla 27. Gastos del Gobierno Central por Clasificación Funcional 2025-2027
B53: Tabla 28. Iniciativas con Fondos Provenientes de Cooperación Internacional 2027-2030
B54: Tabla 29. Cuenta Ahorro-Inversión-Financiamiento del Gobierno Central
... B73: Tabla 48. Gobierno General Nacional

Sheet Tabla 1
C2: MINISTERIO DE HACIENDA Y ECONOMÍA
C3: DIRECCIÓN GENERAL DE PRESUPUESTO
C4: DIRECCIÓN DE ESTUDIOS ECONÓMICOS Y SEGUIMIENTO FINANCIERO
B6: Tabla 1. Resumen de las principales variables presupuestarias del Presupuesto General del Estado 2025-2030 Valores en porcentaje (%) y en millones RD$
B8: Detalle | C8: Devengado 2025 | D8: 2026 | F8: Proyecto Ley PGE 2027 | G8: Proyecciones
D9: Presupuesto Inicial | E9: Presupuesto Reformulado | G9: 2028 | H9: 2029 | I9: 2030
D10: (Ley núm. 99-25) | E10: (Ley núm. 43-26)
B11: 1) Ingresos | C11: 1.2481863e+12 | D11: 1342258153546 | E11: 1383236453546 | F11: 1510574484171 | G11: 1.650176e+12 | H11: 1.8134334e+12 | I11: 1.9927631e+12
B12: % PIB | C12: =+C11/C38 -> 0.15804726 | D12: =+D11/D38 -> 0.155 | E12: =+E11/E38 -> 0.15941159 | F12: =+F11/F38 -> 0.15744 | G12: =+G11/G38 -> 0.1575 | H12: =+H11/H38 -> 0.1585 | I12: =+I11/I38 -> 0.1595
B13: 2) Gastos | C13: =+C15+C19 -> 1.521579e+12 | D13: =+D15+D19 -> 1622833406287 | E13: =+E15+E19 -> 1663811706287 | F13: =+F15+F19 -> 1837856001419 | G13: =+G15+G19 -> 1.9896407e+12 | H13: =+H15+H19 -> 2.1601032e+12 | I13: =+I15+I19 -> 2.3264679e+12
B14: % PIB | C14: =+C13/C38 -> 0.19266466 | D14: =+D13/D38 -> 0.1874 | E14: =+E13/E38 -> 0.19174659 | F14: =+F13/F38 -> 0.191551 | G14: =+G13/G38 -> 0.1899 | H14: =+H13/H38 -> 0.18880007 | I14: =+I13/I38 -> 0.1862096
B15: 2.1) Gastos Corrientes | C15: 1.3138273e+12 | D15: 1407548685832 | E15: 1431835753927 | F15: 1580092250634 | G15: 1.6972747e+12 | H15: 1.8294372e+12 | I15: 1.9529293e+12
B16: % PIB | C16: =+C15/C38 -> 0.16635881 | D16: =+D15/D38 -> 0.16253956 | E16: =+E15/E38 -> 0.16501244 | F16: =F15/F$38 -> 0.16468551 | G16: =G15/G$38 -> 0.16199531 | H16: =H15/H$38 -> 0.15989878 | I16: =I15/I$38 -> 0.15631172
B17: 2.1.1) de los cuales: Intereses | C17: 2.7558993e+11 | D17: 324257115564 | E17: 311657115564 | F17: 351327056267 | G17: 3.9624895e+11 | H17: 4.3973519e+11 | I17: 4.8567409e+11
B18: % PIB | C18: =+C17/C38 -> 0.034895617 | D18: =+D17/D38 -> 0.037444252 | E18: =+E17/E38 -> 0.035917039 | F18: =+F17/F38 -> 0.03661715 | G18: =+G17/G38 -> 0.03781973 | H18: =+H17/H38 -> 0.038434292 | I18: =+I17/I38 -> 0.03887317
B19: 2.2) Gastos de capital | C19: 2.0775173e+11 | D19: 215284720455 | E19: 231975952360 | F19: 257763750785 | G19: 2.9236606e+11 | H19: 3.3066602e+11 | I19: 3.7353858e+11
B20: % PIB | C20: =+C19/C38 -> 0.026305841 | D20: =+D19/D38 -> 0.024860443 | E20: =+E19/E38 -> 0.026734154 | F20: =+F19/F38 -> 0.026865491 | G20: =+G19/G38 -> 0.027904694 | H20: =+H19/H38 -> 0.02890129 | I20: =+I19/I38 -> 0.029897886
B21: Resultado Primario [1 - (2 - 2.1.1)] | C21: =+C23+C17 -> 2.1972461e+09 | D21: =+D23+D17 -> 43681862823 | E21: =+E23+E17 -> 31081862823 | F21: =+F23+F17 -> 24045539019 | G21: =G11-G13+G17 -> 5.6784177e+10 | H21: =H11-H13+H17 -> 9.3065388e+10 | I21: =I11-I13+I17 -> 1.5196931e+11
B22: % PIB | C22: =+C21/C38 -> 0.00027821865 | D22: =+D21/D38 -> 0.0050442523 | E22: =+E21/E38 -> 0.0035820407 | F22: =+F21/F38 -> 0.0025061523 | G22: =+G21/G38 -> 0.0054197298 | H22: =+H21/H38 -> 0.0081342189 | I22: =+I21/I38 -> 0.012163566
B23: Resultado Financiero (1 - 2) | C23: =+C11-C13 -> -2.7339268e+11 | D23: =+D11-D13 -> -280575252741 | E23: =+E11-E13 -> -280575252741 | F23: =F11-F13 -> -327281517248 | G23: =G11-G13 -> -3.3946477e+11 | H23: =H11-H13 -> -3.4666981e+11 | I23: =I11-I13 -> -3.3370478e+11
B24: % PIB | C24: =+C23/C38 -> -0.034617399 | D24: =+D23/D38 -> -0.0324 | E24: =+E23/E38 -> -0.032334998 | F24: =F23/F38 -> -0.034110997 | G24: =G23/G38 -> -0.0324 | H24: =H23/H38 -> -0.030300073 | I24: =I23/I38 -> -0.026709604
B25: 3) Fuente Financieras | C25: 3.678748e+11 | D25: 401767814730 | E25: 401767814730 | F25: 464126040736 | G25: 5.9005743e+11 | H25: 6.9797579e+11 | I25: 5.7844942e+11
B26: % PIB | C26: =+C25/C38 -> 0.046580869 | D26: =+D25/D38 -> 0.046394959 | E26: =+E25/E38 -> 0.04630188 | F26: =+F25/F38 -> 0.048373652 | G26: =+G25/G38 -> 0.056317657 | H26: =+H25/H38 -> 0.061005364 | I26: =+I25/I38 -> 0.046298872 | L26: 1000000
B27: 4) Aplicaciones Financieras | C27: 1.0084891e+11 | D27: 121192561989 | E27: 121192561989 | F27: 136844523488 | G27: 2.5059265e+11 | H27: 3.5130599e+11 | I27: 2.4474464e+11
B28: % PIB | C28: =+C27/C38 -> 0.012769643 | D28: =+D27/D38 -> 0.013994959 | E28: =+E27/E38 -> 0.013966881 | F28: =+F27/F38 -> 0.014262654 | G28: =+G27/G38 -> 0.023917657 | H28: =+H27/H38 -> 0.030705291 | I28: =+I27/I38 -> 0.019589268
B29: Necesidad Neta de Financiamiento (3 - 4) | C29: =+C25-C27 -> 2.6702589e+11 | D29: =+D25-D27 -> 280575252741 | E29: =+E25-E27 -> 280575252741 | F29: =F25-F27 -> 327281517248 | G29: =G25-G27 -> 3.3946477e+11 | H29: =H25-H27 -> 3.4666981e+11 | I29: =I25-I27 -> 3.3370478e+11
B30: % PIB | C30: =+C29/C38 -> 0.033811225 | D30: =+D29/D38 -> 0.0324 | E30: =+E29/E38 -> 0.032334998 | F30: =+F29/F38 -> 0.034110997 | G30: =+G29/G38 -> 0.0324 | H30: =+H29/H38 -> 0.030300073 | I30: =+I29/I38 -> 0.026709604
B32: *Cifras preliminares.
B33: Nota 1: PIB nominal de cierre 2025 y período 2027-2030 se ha tomado del Panorama Macroeconómico 2026-2030, revisado al 25 de agosto de 2026. En cambio, PIB nominal del presupuesto inicial 2026 se ha tomado del Marco Macroeconómico original del 26 de agosto 2025 y para el Reformulado (Ley núm. 43-26) se utilizó el Marco Macroeconómico revisado al 9 de junio de 2026.
B34: Nota 2: El presupuesto reformulado 2026 corresponde al presupuesto aprobado, referente a la Ley núm. 43-26 que modifica la Ley núm. 99-25 de Presupuesto General del Estado para el ejercicio presupuestario del año 2026. Adicionalmente, las modificaciones también cumplen con los criterios dispuestos en el artículo 48 de la Ley Orgánica de Presupuesto para el Sector Público (Ley núm. 423-06).
B35: Nota 3: Acorde al Artículo 6 de la Ley núm. 43-26, se autoriza al Poder Ejecutivo a utilizar como fuentes financieras el balance neto de disponibilidad de periodo fiscal 2025, por un monto de RD$21,147.5 millones. El presupuesto vigente 2026 registra este ajuste en las Fuentes Financieras.
B36: Fuente: Sistema de Información de la Gestión Financiera (SIGEF)
B38: PIB Nominal | C38: 7.8975513e+12 | D38: 8659730000000 | E38: 8.6771383e+12 | F38: 9.5946042e+12 | G38: 1.0477308e+13 | H38: 1.144122e+13 | I38: 1.2493812e+13
D42: 4.6412604e+11
D44: 1.3488816e+11
F45: 1000000
D49: 5.8691423e+11 | E49: 6.9225435e+11 | F49: 6.0206767e+11
D50: 397110000000 | E50: 4.94283e+11 | F50: 422460000000
F55: 5.9005743e+11 | G55: 6.9797579e+11 | H55: 5.7844942e+11

Sheet Gráfico 1
B2: MINISTERIO DE HACIENDA Y ECONOMÍA
B3: DIRECCIÓN GENERAL DE PRESUPUESTO
B4: DIRECCIÓN DE ESTUDIOS ECONÓMICOS Y SEGUIMIENTO FINANCIERO
B6: Gráfico 1. Crecimiento de la Economía Mundial
B7: 2025-2027
B8: Variación porcentual (%) anual del PIB real
B26: Fuente: FMI. Perspectivas de la Economía Mundial, julio 2026.
B27: Nota: e=estimada; p= proyectada
O28: Tasas de Crecimiento de la Economía Global 2025 -2027
O30: 2025e | P30: 2026p | Q30: 2027p
N31: Economía Mundial | O31: 3.5 | P31: 3 | Q31: 3.4
N32: Economías Avanzadas | O32: 1.9 | P32: 1.7 | Q32: 1.8
N33: Economías Emergentes y en Desarrollo | O33: 4.5 | P33: 3.8 | Q33: 4.5

Sheet Tabla 2
B2: MINISTERIO DE HACIENDA Y ECONOMÍA
B3: DIRECCIÓN GENERAL DE PRESUPUESTO
B4: DIRECCIÓN DE ESTUDIOS ECONÓMICOS Y SEGUIMIENTO FINANCIERO
B6: Tabla 2. Proyecciones fiscales de la Economía Mundial: balance global y deuda pública
B7: 2025-2027
B8: En porcentajes (%) del PIB
B9: Detalle | C9: Balance Global* | F9: Deuda Pública**
C10: 2025e | D10: 2026p | E10: 2027p | F10: 2025e | G10: 2026p | H10: 2027p
B11: Economía Mundial | C11: -4.9956779 | D11: -5.2018286 | E11: -5.119204 | F11: 93.92586 | G11: 95.317509 | H11: 97.216439
B12: Economías Avanzadas | C12: -4.3608198 | D12: -4.7616752 | E12: -4.6639243 | F12: 107.98955 | G12: 108.17656 | H12: 109.41122
B13: Estados Unidos | C13: -6.8241883 | D13: -7.5017793 | E13: -7.3735854 | F13: 123.88635 | G13: 125.78129 | H13: 128.57643
B14: Zona Euro | C14: -3.0061564 | D14: -3.3174377 | E14: -3.3512011 | F14: 87.053956 | G14: 87.813491 | H14: 88.395385
B15: Economías emergentes y en desarrollo | C15: -5.8988829 | D15: -5.8210273 | E15: -5.7547926 | F15: 73.890679 | G15: 77.202092 | H15: 80.169522
B16: China | C16: -7.8675171 | D16: -8.1530343 | E16: -8.3583476 | F16: 99.237751 | G16: 106.89513 | H16: 112.4755
B17: América Latina | C17: -5.1564549 | D17: -4.7203558 | E17: -4.087556 | F17: 74.17519 | G17: 73.179475 | H17: 74.131968
B18: Fuente: International Monetary Fund (IMF). 2025. Fiscal Monitor: Fiscal Policy under Pressure: High Debt, Rising Risks, April 2026.
B19: Notas:
B20: * Se refiere al balance global del Gobierno General.
B21: ** Se refiere a la deuda bruta del Gobierno General.
B22: e= estimada; p= proyectada

Sheet Gráfico 2
C2: MINISTERIO DE HACIENDA Y ECONOMÍA
C3: DIRECCIÓN GENERAL DE PRESUPUESTO
C4: DIRECCIÓN DE ESTUDIOS ECONÓMICOS Y SEGUIMIENTO FINANCIERO
C7: Gráfico 2. Crecimiento de Estados unidos
C8: 2025-2027
C9: Variación porcentual (%) anual del PIB real
C28: Fuente: FMI. Perspectivas de la Economía Mundial, julio 2026.
C29: Nota: e=estimada; p= proyectada
M32: Tasas de Crecimiento de Estados Unidos
M34: 2025e | N34: 2026p | O34: 2027p
L35: Estados Unidos | M35: 2.1 | N35: 2.3 | O35: 2.2

Sheet Gráfico 3
C2: MINISTERIO DE HACIENDA Y ECONOMÍA
C3: DIRECCIÓN GENERAL DE PRESUPUESTO
C4: DIRECCIÓN DE ESTUDIOS ECONÓMICOS Y SEGUIMIENTO FINANCIERO
C6: Gráfico 3. Crecimiento de la Zona del euro
C7: 2025-2027
C8: Variación porcentual (%) anual del PIB real
C28: Fuente: FMI. Perspectivas de la Economía Mundial, julio 2026.
C29: Nota: e=estimada; p= proyectada
M31: Tasas de Crecimiento de Estados Unidos
M33: 2025e | N33: 2026p | O33: 2027p
L34: Zona del euro | M34: 1.4 | N34: 0.9 | O34: 1.2
L35: Alemania | M35: 0.2 | N35: 0.7 | O35: 1
L36: Francia | M36: 0.9 | N36: 0.6 | O36: 0.9
L37: Italia | M37: 0.5 | N37: 0.5 | O37: 0.5
L38: España | M38: 2.8 | N38: 2.1 | O38: 1.8

Sheet Gráfico 4
C2: MINISTERIO DE HACIENDA Y ECONOMÍA
C3: DIRECCIÓN GENERAL DE PRESUPUESTO
C4: DIRECCIÓN DE ESTUDIOS ECONÓMICOS Y SEGUIMIENTO FINANCIERO
C6: Gráfico 4. Crecimiento de China
C7: 2025-2027
C8: Variación porcentual (%) anual del PIB real
M26: Tasas de Crecimiento de China
C27: Fuente: FMI. Perspectivas de la Economía Mundial, julio 2026.
C28: Nota: e=estimada; p= proyectada | M28: 2025e | N28: 2026p | O28: 2027p
L29: China | M29: 5 | N29: 4.6 | O29: 4.1

Sheet Gráfico 5
C2: MINISTERIO DE HACIENDA Y ECONOMÍA
C3: DIRECCIÓN GENERAL DE PRESUPUESTO
C4: DIRECCIÓN DE ESTUDIOS ECONÓMICOS Y SEGUIMIENTO FINANCIERO
C6: Gráfico 5. Crecimiento de América Latina y el Caribe
C7: 2025-2027
C8: Variación porcentual (%) anual del PIB real
C27: Fuente: FMI. Perspectivas de la Economía Mundial, julio 2026. | M27: Tasas de América Latina y el Caribe
C28: Nota: e=estimada; p= proyectada
M29: 2025e | N29: 2026p | O29: 2027p
L30: ALC | M30: 2.4 | N30: 2.4 | O30: 2.7

Sheet Gráfico 6
C2: MINISTERIO DE HACIENDA Y ECONOMÍA
C3: DIRECCIÓN GENERAL DE PRESUPUESTO
C4: DIRECCIÓN DE ESTUDIOS ECONÓMICOS Y SEGUIMIENTO FINANCIERO
C7: Gráfico 6. América Latina y el Caribe: tasa de crecimiento del PIB
C8: 2024-2026
C9: Valores en porcentajes (%)
C33: Fuente: CEPAL. Estudio Económico de América Latina y el Caribe, 2026. | K33: Tabla: América Latina y el Caribe y subregiones: estimación y proyecciones de tasas de crecimiento del PIB, 2023-2025
C34: Nota: e=Estimada; p=proyectada. | K34: (En porcentajes)
K36: País | L36: 2025e | M36: 2026p | N36: 2027p
K37: América Latina y el Caribe | L37: 2.4 | M37: 2.2 | N37: 2.5
K38: América del Sur | L38: 2.9 | M38: 2.5 | N38: 2.5
K39: Centroamérica | L39: 2.3 | M39: 1.6 | N39: 2.8
K40: Caribe (sin incluir Guyana) | L40: 1.4 | M40: 1.1 | N40: 2.2
K41: Fuente: CEPAL. Estudio Económico de América Latina y el Caribe, 2026.
K42: Nota: e=Estimada; p=proyectada.

Sheet Gráfico 7
C2: MINISTERIO DE HACIENDA Y ECONOMÍA
C3: DIRECCIÓN GENERAL DE PRESUPUESTO
C4: DIRECCIÓN DE ESTUDIOS ECONÓMICOS Y SEGUIMIENTO FINANCIERO
C7: Gráfico 7. América Latina y el Caribe: pronóstico de tasa de crecimiento del PIB, 2026
C8: Valores en porcentajes (%)
C32: Fuente: CEPAL. Estudio Económico de América Latina y el Caribe, 2026.
G43: País | H43: Proyectado
G44: Guyana | H44: 16.2
G45: Venezuela (Rep. Bol. de) | H45: 6.5
G46: Nicaragua | H46: 4.5
G47: Panamá | H47: 4.4
G48: Paraguay | H48: 4.3
G49: Guatemala | H49: 4
G50: República Dominicana | H50: 4
G51: El Salvador | H51: 3.9
G52: Costa Rica | H52: 3.7
G53: Antigua y Barbuda | H53: 3.5
G54: Honduras | H54: 3.5
G55: Suriname | H55: 3.5
... G77: Cuba | H77: -10.3
G78: Fuente: CEPAL. Estudio Económico de América Latina y el Caribe, 2026.

Sheet Gráfico 8
A1: MINISTERIO DE HACIENDA Y ECONOMÍA
A2: DIRECCIÓN GENERAL DE PRESUPUESTO
A3: DIRECCIÓN DE ESTUDIOS ECONÓMICOS Y SEGUIMIENTO FINANCIERO
C6: Gráfico 8. América Latina (16 países)*: indicadores fiscales del gobierno central, 2019-2026
C7: Valores en porcentajes (%) del PIB
C32: Nota: Promedios simples. Las cifras de 2026 corresponden a estimaciones oficiales de los países. En los casos de la Argentina, México y el Perú, las cifras corresponden a la administración pública nacional, al sector público federal y al gobierno general, respectivamente.
C33: * Argentina, Brasil, Chile, Colombia, Costa Rica, Ecuador, El Salvador, Guatemala, Honduras, México, Nicaragua, Panamá, Paraguay, Perú, República Dominicana y Uruguay.
C34: Fuente: CEPAL. Estudio Económico de América Latina y el Caribe, 2026.
P37: Gasto total | Q37: Ingreso Total | R37: Resultado primario (eje derecho) | S37: Resultado Global (eje derecho)
O38: 2019 | P38: 21.4 | Q38: 18.3 | R38: -0.6 | S38: -3.1
O39: 2020 | P39: 24.5 | Q39: 17.7 | R39: -4.2 | S39: -6.8
O40: 2021 | P40: 23.1 | Q40: 18.9 | R40: -1.7 | S40: -4.2
O41: 2022 | P41: 21.7 | Q41: 19.3 | R41: 0.2 | S41: -2.4
O42: 2023 | P42: 21.8 | Q42: 18.5 | R42: -0.5 | S42: -3.3
O43: 2024 | P43: 21.8 | Q43: 18.5 | R43: -0.3 | S43: -3.3
O44: 2025 | P44: 21.6 | Q44: 18.6 | R44: -0.1 | S44: -3
O45: 2026 | P45: 21.7 | Q45: 18.6 | R45: 0 | S45: -3.1

Sheet Gráfico 9
A1: MINISTERIO DE HACIENDA Y ECONOMÍA
A2: DIRECCIÓN GENERAL DE PRESUPUESTO
A3: DIRECCIÓN DE ESTUDIOS ECONÓMICOS Y SEGUIMIENTO FINANCIERO
C6: Gráfico 9. El Caribe (12 países)*: indicadores fiscales del gobierno central, 2019-2026
C31: Nota: Promedios simples. Las cifras de 2026 corresponden a estimaciones oficiales de los países. En los casos de Barbados y Saint Kitts y Nevis, las cifras corresponden al sector público no financiero y al gobierno federal, respectivamente.
C32: * Antigua y Barbuda, Bahamas (Las), Barbados, Belice, Granada, Guyana, Jamaica, Saint Kitts y Nevis, San Vicente y las Granadinas, Santa Lucía, Suriname y Trinidad y Tabago.
C33: Fuente: CEPAL. Estudio Económico de América Latina y el Caribe, 2026.
P36: Gasto total | Q36: Ingreso Total | R36: Resultado primario (eje derecho) | S36: Resultado Global (eje derecho)
O37: 2020 | P37: 31.7 | Q37: 24.6 | R37: -4.3 | S37: -7.1
O38: 2021 | P38: 29.4 | Q38: 26.2 | R38: -0.7 | S38: -3.2
O39: 2022 | P39: 28.6 | Q39: 26.3 | R39: 0.2 | S39: -2.3
O40: 2023 | P40: 28.6 | Q40: 26.9 | R40: 1.2 | S40: -1.7
O41: 2024 | P41: 30.1 | Q41: 27.2 | R41: 0.2 | S41: -2.9
O42: 2025 | P42: 30.8 | Q42: 26.6 | R42: -1.1 | S42: -4.2
O43: 2026 | P43: 30.4 | Q43: 26.8 | R43: -0.7 | S43: -3.6

Sheet Gráfico 10
C2: MINISTERIO DE HACIENDA Y ECONOMÍA
C3: DIRECCIÓN GENERAL DE PRESUPUESTO
C4: DIRECCIÓN DE ESTUDIOS ECONÓMICOS Y SEGUIMIENTO FINANCIERO
C6: Gráfico 10. Evolución Mensual de los Precios del Petróleo
C7: Agosto 2025 - Agosto 2026
C8: Valores en US$ por barril
C29: Fuente: U.S. Energy Information Administration (EIA).
M35: Producto | N35: 45870 | O35: 45901 | P35: 45931 | Q35: 45962 | R35: 45992 | S35: 46023 | T35: 46054 | U35: 46082 | V35: 46113 | W35: 46143 | X35: 46174 | Y35: 46204 | Z35: 46235
M36: WTI | N36: 64.86 | O36: 63.96 | P36: 60.89 | Q36: 60.06 | R36: 57.97 | S36: 60.04 | T36: 64.51 | U36: 91.38 | V36: 100.32 | W36: 102.13 | X36: 84.81 | Y36: 80.46 | Z36: 83.9
M37: BRENT | N37: 67.87 | O37: 67.99 | P37: 64.54 | Q37: 63.8 | R37: 62.54 | S37: 66.6 | T37: 70.89 | U37: 103.13 | V37: 117.29 | W37: 107.14 | X37: 85.4 | Y37: 83.76 | Z37: 91.08

Sheet Gráfico 11
C2: MINISTERIO DE HACIENDA Y ECONOMÍA
C3: DIRECCIÓN GENERAL DE PRESUPUESTO
C4: DIRECCIÓN DE ESTUDIOS ECONÓMICOS Y SEGUIMIENTO FINANCIERO
G9: Gráfico 11. Crecimiento Interranual del Producto Interno Bruto (PIB)
G10: 2019-2026
G11: Valores en Porcentaje (%)
J13: PIB Real T1 2019-2026
J14: T1- 2019 | K14: =570%/100 -> 0.057
J15: T1-2020 | K15: 0
J16: T1- 2021 | K16: =310%/100 -> 0.031
J17: T1- 2022 | K17: =610%/100 -> 0.061
J18: T1- 2023 | K18: =140%/100 -> 0.014
J19: T1- 2024 | K19: =450%/100 -> 0.045
J20: T1- 2025 | K20: =270%/100 -> 0.027
J21: T1- 2026* | K21: 0.041

Sheet Tabla 3
C2: MINISTERIO DE HACIENDA Y ECONOMÍA
C3: DIRECCIÓN GENERAL DE PRESUPUESTO
C4: DIRECCIÓN DE ESTUDIOS ECONÓMICOS Y SEGUIMIENTO FINANCIERO
A8: Tabla 3. Tasas de Crecimiento por Actividad Económica
A9: Enero-Junio 2025 y 2026*
A10: Valores en porcentaje (%)
B12: Actividad | C12: 2025 | D12: 2026
B13: Agropecuario | C13: 4.9 | D13: 2.4
B14: Explotación de minas y canteras | C14: 2.3 | D14: 11.3
B15: Manufactura local | C15: 1.6 | D15: 3.3
B16: Manufactura zonas francas | C16: 1.2 | D16: 2.6
B17: Construcción | C17: -2.3 | D17: 6.7
B18: Servicios | C18: 3.3 | D18: 4.7
B19: Energía y agua | C19: 2.5 | D19: 3.5
B20: Comercio | C20: 3.4 | D20: 2.2
B21: Hoteles, bares y restaurantes | C21: 2.8 | D21: 5.8
B22: Transporte y almacenamiento | C22: 4.7 | D22: 5.1
B23: Comunicaciones | C23: 0.4 | D23: 0.8
... B33: Producto Interno Bruto | C33: 2.4 | D33: 4.5
B35: Nota:
B36: * Cifras Preliminares
B37: Fuente: Banco Central de la República Dominicana

Sheet Gráfico 12
F2: MINISTERIO DE HACIENDA Y ECONOMÍA
F3: DIRECCIÓN GENERAL DE PRESUPUESTO
F4: DIRECCIÓN DE ESTUDIOS ECONÓMICOS Y SEGUIMIENTO FINANCIERO
A6: Banco Central de la República Dominicana
A7: Tasas de Política Monetaria y Facilidades Permanentes | G7: Gráfico 12. Corredor de Tasas de Interés
A8: 2020-2024 | G8: 2024-2026
A9: En % anual | G9: Valores en porcentaje (%)
A10: Año | B10: Mes | C10: Tasa de Política Monetaria | D10: Depósito | E10: Préstamo
A11: 2020 | B11: Ene | C11: 0.045 | D11: 0.03 | E11: 0.06
B12: Feb | C12: 0.045 | D12: 0.03 | E12: 0.06
B13: Mar | C13: 0.035 | D13: 0.025 | E13: 0.045
B14: Abr | C14: 0.035 | D14: 0.025 | E14: 0.045
B15: May1 | C15: 0.035 | D15: 0.025 | E15: 0.045
B16: Jun | C16: 0.035 | D16: 0.025 | E16: 0.045
B17: Jul | C17: 0.035 | D17: 0.025 | E17: 0.045
B18: Ago | C18: 0.035 | D18: 0.025 | E18: 0.045
B19: Sep | C19: 0.03 | D19: 0.025 | E19: 0.035
B20: Oct | C20: 0.03 | D20: 0.025 | E20: 0.035
B21: Nov | C21: 0.03 | D21: 0.025 | E21: 0.035
B22: Dic | C22: 0.03 | D22: 0.025 | E22: 0.035
A23: 2021 | B23: Ene | C23: 0.03 | D23: 0.025 | E23: 0.035
B24: Feb | C24: 0.03 | D24: 0.025 | E24: 0.035
B25: Mar | C25: 0.03 | D25: 0.025 | E25: 0.035
B26: Abr | C26: 0.03 | D26: 0.025 | E26: 0.035 | H26: Fuente: Banco Central de la República Dominicana
B27: May | C27: 0.03 | D27: 0.025 | E27: 0.035 | H27: 1/En una reunión extraordinaria de política monetaria el 16 de marzo de 2020, se redujo la TPM y se modificaron las tasas de las facilidades permanentes, siendo efectivas a partir del 19 de marzo de 2020.
B28: Jun | C28: 0.03 | D28: 0.025 | E28: 0.035
B29: Jul | C29: 0.03 | D29: 0.025 | E29: 0.035
B30: Ago | C30: 0.03 | D30: 0.025 | E30: 0.035
B31: Sep | C31: 0.03 | D31: 0.025 | E31: 0.035
B32: Oct | C32: 0.03 | D32: 0.025 | E32: 0.035
B33: Nov | C33: 0.03 | D33: 0.025 | E33: 0.035
B34: Dic | C34: 0.035 | D34: 0.03 | E34: 0.04
A35: 2022 | C35: 0.045 | D35: 0.04 | E35: 0.05
C36: 0.05 | D36: 0.045 | E36: 0.055
B37: Mar | C37: 0.05 | D37: 0.045 | E37: 0.055
C38: 0.055 | D38: 0.05 | E38: 0.06
C39: 0.055 | D39: 0.05 | E39: 0.06
B40: Jun | C40: 0.065 | D40: 0.06 | E40: 0.07
C41: 0.0725 | D41: 0.0675 | E41: 0.0775
C42: 0.0775 | D42: 0.0725 | E42: 0.0825
...

Sheet Gráfico 13
A2: MINISTERIO DE HACIENDA Y ECONOMÍA
A3: DIRECCIÓN GENERAL DE PRESUPUESTO
A4: DIRECCIÓN DE ESTUDIOS ECONÓMICOS Y SEGUIMIENTO FINANCIERO
I7: Gráfico 13. Inflación Interanual y Subyacente
I8: 2022 - 2026
I9: Valores en porcentaje (%)
E29: Fuente: Banco Central de la República Dominicana.
A52: Año | B52: Mes | C52: Subyacente | D52: Variación porcentual (12 meses)
A53: 2021 | B53: Ene | C53: 4.9272552 | D53: 6.2270484
B54: Feb | C54: 5.3600492 | D54: 7.0877017
B55: Mar | C55: 5.5825302 | D55: 8.2965106
B56: Abr | C56: 5.7211549 | D56: 9.6452642
B57: May | C57: 5.8254264 | D57: 10.480821
B58: Jun | C58: 5.9953809 | D58: 9.3193677
B59: Jul | C59: 5.7889698 | D59: 7.8760412
B60: Ago | C60: 5.9130532 | D60: 7.8970977
B61: Sep | C61: 6.0960647 | D61: 7.7381184
B62: Oct | C62: 6.3107914 | D62: 7.7152485
B63: Nov | C63: 6.6269466 | D63: 8.2325084
B64: Dic | C64: 6.8716674 | D64: 8.495699
A65: 2022 | B65: Ene | C65: 7.0014588 | D65: 8.726424
B66: Feb | C66: 6.9731941 | D66: 8.9838302
B67: Mar | C67: 6.9934079 | D67: 9.0545502
B68: Abr | C68: 7.2489008 | D68: 9.643117
B69: May | C69: 7.293206 | D69: 9.4725721
B70: Jun | C70: 7.1123528 | D70: 9.4782889
B71: Jul | C71: 7.100719 | D71: 9.4349993
B72: Ago | C72: 7.1231246 | D72: 8.7959723
B73: Sep | C73: 7.0370439 | D73: 8.626227
B74: Oct | C74: 6.8574425 | D74: 8.2350509
B75: Nov | C75: 6.593688 | D75: 7.5769703
B76: Dic | C76: 6.562517 | D76: 7.8269161
A77: 2023 | B77: Ene | C77: 6.6 | D77: 7.24
B78: Feb | C78: 6.4 | D78: 6.38
B79: Mar | C79: 6.16 | D79: 5.9
B80: Abr | C80: 5.83 | D80: 5.15
B81: May | C81: 5.51 | D81: 4.43
B82: Jun | C82: 5.33 | D82: 4
B83: Jul | C83: 5.05 | D83: 3.95
B84: Ago | C84: 4.82 | D84: 4.27
...

Sheet Gráfico 14
A2: MINISTERIO DE HACIENDA Y ECONOMÍA
A3: DIRECCIÓN GENERAL DE PRESUPUESTO
A4: DIRECCIÓN DE ESTUDIOS ECONÓMICOS Y SEGUIMIENTO FINANCIERO
B12: Gráfico 14. Evolución Mensual de las Reservas Internacionales Brutas
C13: Enero – junio 2026
B14: Valores en US$ millones
H18: Año | I18: 2026
H19: Meses | I19: RESERVAS INTERNACIONALES
H21: ENERO | I21: 13959.571
H22: FEBRERO | I22: 16180.746
H23: MARZO | I23: 16143.134
H24: ABRIL | I24: 15888.906
H25: MAYO | I25: 15771.085
H26: JUNIO | I26: 15821.582
H32: Fuente: Banco Central de la República Dominicana.

Sheet Tabla 4
B1: MINISTERIO DE HACIENDA Y ECONOMÍA
B2: DIRECCIÓN GENERAL DE PRESUPUESTO
B3: DIRECCIÓN DE ESTUDIOS ECONÓMICOS Y SEGUIMIENTO FINANCIERO
B6: Tabla 4. Recaudación de Ingresos por Clasificación Económica
B7: Enero - Junio 2025 y 2026
B8: Valores en Millones de RD$ | N8: PIB Nominal (Millones RD$) | O8: 8.6771383e+12
B10: DETALLE | C10: 2025 | D10: 2026 | H10: ESTIMADO vs. RECAUDADO 2026 | J10: VARIACIÓN 2026/2025 | L10: RECAUDADO % PIB
C11: RECAUDADO | D11: PRESUPUESTO INICIAL | E11: PRESUPUESTO VIGENTE | F11: ENERO - JUNIO
F12: ESTIMADO | G12: RECAUDADO
H13: ABS. | I13: REL. | J13: ABS. | K13: REL.
C14: 1 | D14: 2 | E14: 3 | F14: 4 | G14: 5 | H14: 6=(5-4) | I14: 7=(6/4) | J14: 8=(5-1) | K14: 9=(8/1) | L14: 10 = 5/PIB
B15: 1.1 Ingresos Corrientes | C15: =+C16+C26+C30+C33+C46+C49+C50 -> 6.2220752e+11 | D15: =+D16+D26+D30+D33+D46+D49+D50 -> 1340124486786 | E15: =+E16+E26+E30+E33+E46+E49+E50 -> 1.3401444e+12 | F15: =+F16+F26+F30+F33+F46+F49+F50 -> 6.5843535e+11 | G15: =+G16+G26+G30+G33+G46+G49+G50 -> 6.6729332e+11 | H15: =+G15-F15 -> 8.857969e+09 | I15: =IFERROR(G15/F15-1,"-") -> 0.013453058 | J15: =G15-C15 -> 4.5085805e+10 | K15: =IFERROR(G15/C15-1,"-") -> 0.072461042 | L15: =G15/$O$8 -> 0.076902464
B16: 1.1.1 - Impuestos | C16: =+C17+C21+C22+C23+C24+C25 -> 5.8623985e+11 | D16: =+D17+D21+D22+D23+D24+D25 -> 1236829099333 | E16: =+E17+E21+E22+E23+E24+E25 -> 1236829099333 | F16: =+F17+F21+F22+F23+F24+F25 -> 6.2723474e+11 | G16: =+G17+G21+G22+G23+G24+G25 -> 6.3471266e+11 | H16: =+G16-F16 -> 7.4779209e+09 | I16: =+(G16/F16)-1 -> 0.011922045 | J16: =G16-C16 -> 4.8472809e+10 | K16: =IFERROR(G16/C16-1,"-") -> 0.082684261 | L16: =G16/$O$8 -> 0.073147694
B17: 1.1.1.1 - Impuestos sobre el ingreso, las utilidades y las ganancias de capital | C17: =+C18+C19+C20 -> 2.2882028e+11 | D17: =+D18+D19+D20 -> 428719100220 | E17: =+E18+E19+E20 -> 428719100220 | F17: =+F18+F19+F20 -> 2.3537258e+11 | G17: =+G18+G19+G20 -> 2.4634297e+11 | H17: =+G17-F17 -> 1.097039e+10 | I17: =+(G17/F17)-1 -> 0.046608618 | J17: =G17-C17 -> 1.7522684e+10 | K17: =IFERROR(G17/C17-1,"-") -> 0.076578371 | L17: =G17/$O$8 -> 0.028389886
B18: 1.1.1.1.1 - De personas físicas | C18: 7.1518839e+10 | D18: 141895226918 | E18: 141895226918 | F18: 7.7889307e+10 | G18: 8.0717357e+10 | H18: =+G18-F18 -> 2.8280494e+09 | I18: =+(G18/F18)-1 -> 0.03630857 | J18: =G18-C18 -> 9.1985179e+09 | K18: =IFERROR(G18/C18-1,"-") -> 0.12861671 | L18: =G18/$O$8 -> 0.0093023015
B19: 1.1.1.1.2 - De empresas y otras corporaciones | C19: 1.1922263e+11 | D19: 202484318412 | E19: 202484318412 | F19: 1.1095904e+11 | G19: 1.2659196e+11 | H19: =+G19-F19 -> 1.5632928e+10 | I19: =+(G19/F19)-1 -> 0.14088918 | J19: =G19-C19 -> 7.3693337e+09 | K19: =IFERROR(G19/C19-1,"-") -> 0.061811534 | L19: =G19/$O$8 -> 0.014589137
B20: 1.1.1.1.3 - Otros impuestos sobre los ingresos | C20: 3.8078812e+10 | D20: 84339554890 | E20: 84339554890 | F20: 4.6524232e+10 | G20: 3.9033645e+10 | H20: =+G20-F20 -> -7.4905866e+09 | I20: =+(G20/F20)-1 -> -0.16100398 | J20: =G20-C20 -> 9.5483272e+08 | K20: =IFERROR(G20/C20-1,"-") -> 0.025075171 | L20: =G20/$O$8 -> 0.0044984468
B21: 1.1.1.3 - Impuestos sobre la propiedad | C21: 3.0499309e+10 | D21: 71510485694 | E21: 71510485694 | F21: 3.5995145e+10 | G21: 3.5212276e+10 | H21: =+G21-F21 -> -7.8286866e+08 | I21: =+(G21/F21)-1 -> -0.021749285 | J21: =G21-C21 -> 4.7129666e+09 | K21: =IFERROR(G21/C21-1,"-") -> 0.15452699 | L21: =G21/$O$8 -> 0.0040580517
B22: 1.1.1.4 - Impuestos sobre los bienes y servicios | C22: 2.9176739e+11 | D22: 653798841877 | E22: 653798841877 | F22: 3.1796688e+11 | G22: 3.1599178e+11 | H22: =+G22-F22 -> -1.975095e+09 | I22: =+(G22/F22)-1 -> -0.0062116377 | J22: =G22-C22 -> 2.4224391e+10 | K22: =IFERROR(G22/C22-1,"-") -> 0.083026383 | L22: =G22/$O$8 -> 0.036416589
B23: 1.1.1.5 - Impuestos sobre el comercio y las transacciones internacionales/comercio exterior | C23: 3.4381591e+10 | D23: 80985531901 | E23: 80985531901 | F23: 3.7035208e+10 | G23: 3.6361823e+10 | H23: =+G23-F23 -> -6.7338499e+08 | I23: =+(G23/F23)-1 -> -0.018182293 | J23: =G23-C23 -> 1.9802321e+09 | K23: =IFERROR(G23/C23-1,"-") -> 0.057595708 | L23: =G23/$O$8 -> 0.0041905317
B24: 1.1.1.6 - Impuestos ecológicos | C24: 7.6718324e+08 | D24: 1809601570 | E24: 1809601570 | F24: 8.6051647e+08 | G24: 8.0199029e+08 | H24: =+G24-F24 -> -58526182 | I24: =+(G24/F24)-1 -> -0.068012855 | J24: =G24-C24 -> 34807043 | K24: =IFERROR(G24/C24-1,"-") -> 0.04536992 | L24: =G24/$O$8 -> 9.2425666e-05
B25: 1.1.1.9 - Impuestos diversos | C25: 4092484.2 | D25: 5538071 | E25: 5538071 | F25: 4414861.3 | G25: 1820128.1 | H25: =+G25-F25 -> -2594733.2 | I25: =+(G25/F25)-1 -> -0.58772701 | J25: =G25-C25 -> -2272356.1 | K25: =IFERROR(G25/C25-1,"-") -> -0.55525104 | L25: =G25/$O$8 -> 2.0976133e-07
B26: 1.1.2 - Contribuciones a la seguridad social | C26: =SUM(C27:C29) -> 3.5082605e+09 | D26: =SUM(D27:D29) -> 5411413074 | E26: =SUM(E27:E29) -> 5411413074 | F26: =SUM(F27:F29) -> 2.5626255e+09 | G26: =SUM(G27:G29) -> 3.9278309e+09 | H26: =+G26-F26 -> 1.3652055e+09 | I26: =+(G26/F26)-1 -> 0.53273701 | J26: =G26-C26 -> 4.1957048e+08 | K26: =IFERROR(G26/C26-1,"-") -> 0.11959502 | L26: =G26/$O$8 -> 0.00045266432
B27: 1.1.2.1 - Contribuciones de los empleados | C27: 1.3427941e+09 | D27: 2575638910 | E27: 2575638910 | F27: 1.4575775e+09 | G27: 1.3969898e+09 | H27: =+G27-F27 -> -60587744 | I27: =+(G27/F27)-1 -> -0.041567425 | J27: =G27-C27 -> 54195672 | K27: =IFERROR(G27/C27-1,"-") -> 0.040360374 | L27: =G27/$O$8 -> 0.0001609966
B28: 1.1.2.2-Contribuciones de los empleadores | C28: 2.1654664e+09 | D28: 2403774164 | E28: 2403774164 | F28: 8.8819355e+08 | G28: 2.5308412e+09 | H28: =+G28-F28 -> 1.6426476e+09 | I28: =+(G28/F28)-1 -> 1.8494253 | J28: =G28-C28 -> 3.6537481e+08 | K28: =IFERROR(G28/C28-1,"-") -> 0.168728 | L28: =G28/$O$8 -> 0.00029166772
B29: 1.1.2.4-Contribuciones no clasificables | C29: 0 | D29: 432000000 | E29: 432000000 | F29: 2.1685444e+08 | G29: 0 | H29: =+G29-F29 -> -2.1685444e+08 | I29: =+(G29/F29)-1 -> -1 | J29: =G29-C29 -> 0 | K29: =IFERROR(G29/C29-1,"-") -> - | L29: =G29/$O$8 -> 0
B30: 1.1.3 - Ventas de bienes y servicios | C30: =SUM(C31:C32) -> 2.0613818e+10 | D30: =SUM(D31:D32) -> 44882435275 | E30: =SUM(E31:E32) -> 4.489471e+10 | F30: =SUM(F31:F32) -> 2.0735644e+10 | G30: =SUM(G31:G32) -> 2.1460552e+10 | H30: =+G30-F30 -> 7.2490795e+08 | I30: =+(G30/F30)-1 -> 0.03495951 | J30: =G30-C30 -> 8.4673387e+08 | K30: =IFERROR(G30/C30-1,"-") -> 0.041076033 | L30: =G30/$O$8 -> 0.0024732292
B31: 1.1.3.1 - Ventas de establecimientos no de mercado | C31: 1.6183271e+10 | D31: 36790006106 | E31: 3.6802281e+10 | F31: 1.5753076e+10 | G31: 1.6819831e+10 | H31: =+G31-F31 -> 1.0667548e+09 | I31: =+(G31/F31)-1 -> 0.067717242 | J31: =G31-C31 -> 6.3655962e+08 | K31: =IFERROR(G31/C31-1,"-") -> 0.039334423 | L31: =G31/$O$8 -> 0.0019384076
B32: 1.1.3.3 - Derechos administrativos | C32: 4.4305471e+09 | D32: 8092429169 | E32: 8092429169 | F32: 4.9825682e+09 | G32: 4.6407213e+09 | H32: =+G32-F32 -> -3.4184689e+08 | I32: =+(G32/F32)-1 -> -0.068608573 | J32: =G32-C32 -> 2.1017425e+08 | K32: =IFERROR(G32/C32-1,"-") -> 0.047437538 | L32: =G32/$O$8 -> 0.00053482164
B33: 1.1.4 - Rentas de la propiedad | C33: =C34+C37 -> 4.7389676e+09 | D33: =D34+D37 -> 19925149306 | E33: =E34+E37 -> 19925149306 | F33: =F34+F37 -> 6.2732721e+08 | G33: =G34+G37 -> 1.0159447e+09 | H33: =+G33-F33 -> 3.8861745e+08 | I33: =+(G33/F33)-1 -> 0.61948126 | J33: =G33-C33 -> -3.723023e+09 | K33: =IFERROR(G33/C33-1,"-") -> -0.78561899 | L33: =G33/$O$8 -> 0.00011708292
B34: 1.1.4.1 - Intereses | C34: =C35 -> 2.9859952e+08 | D34: =D35 -> 660784281 | E34: =E35 -> 660784281 | F34: =F35 -> 3.8521219e+08 | G34: =G35 -> 1.410458e+08 | H34: =+G34-F34 -> -2.4416638e+08 | I34: =+(G34/F34)-1 -> -0.63384906 | J34: =G34-C34 -> -1.5755372e+08 | K34: =IFERROR(G34/C34-1,"-") -> -0.52764223 | L34: =G34/$O$8 -> 1.6254876e-05
B35: 1.1.4.1.1 - Intereses internos | C35: 2.9859952e+08 | D35: 660784281 | E35: 660784281 | F35: 3.8521219e+08 | G35: 1.410458e+08 | H35: =+G35-F35 -> -2.4416638e+08 | I35: =+(G35/F35)-1 -> -0.63384906 | J35: =G35-C35 -> -1.5755372e+08 | K35: =IFERROR(G35/C35-1,"-") -> -0.52764223 | L35: =G35/$O$8 -> 1.6254876e-05
B36: 1.1.4.1.2 - Intereses externos | C36: 0 | D36: 0 | E36: 0 | F36: 0 | G36: 0 | H36: =+G36-F36 -> 0 | I36: - | J36: =G36-C36 -> 0 | K36: =IFERROR(G36/C36-1,"-") -> - | L36: =G36/$O$8 -> 0
B37: 1.1.4.2 - Rentas de la propiedad distinta de intereses | C37: =SUM(C38:C45) -> 4.4403681e+09 | D37: =SUM(D38:D45) -> 19264365025 | E37: =SUM(E38:E45) -> 19264365025 | F37: =SUM(F38:F45) -> 2.4211503e+08 | G37: =SUM(G38:G45) -> 8.7489886e+08 | H37: =+G37-F37 -> 6.3278383e+08 | I37: =+(G37/F37)-1 -> 2.613567 | J37: =G37-C37 -> -3.5654693e+09 | K37: =IFERROR(G37/C37-1,"-") -> -0.80296704 | L37: =G37/$O$8 -> 0.00010082804
B38: 1.6.1.1.01-Fondo Patrimonial de Empresas Reformadas (Fonper) | C38: 0 | D38: 2500000000 | E38: 2500000000 | F38: 0 | G38: 0 | H38: =+G38-F38 -> 0 | I38: - | J38: =G38-C38 -> 0 | K38: =IFERROR(G38/C38-1,"-") -> - | L38: =G38/$O$8 -> 0
B39: 1.6.1.1.02-Dividendos Banco de Reservas | C39: 0 | D39: 10419663172 | E39: 10419663172 | F39: 0 | G39: 0 | H39: =+G39-F39 -> 0 | I39: - | J39: =G39-C39 -> 0 | K39: =IFERROR(G39/C39-1,"-") -> - | L39: =G39/$O$8 -> 0
B40: 1.6.1.1.08-Dividendos termoeléctrica punta catalina | C40: 2.5172997e+09 | D40: 6027750000 | E40: 6027750000 | F40: 0 | G40: 0 | H40: =+G40-F40 -> 0 | I40: - | J40: =G40-C40 -> -2.5172997e+09 | K40: =IFERROR(G40/C40-1,"-") -> -1 | L40: =G40/$O$8 -> 0
B41: 1.6.1.3.01-Regalías netas de fundición minera | C41: 1.9230684e+09 | D41: 316797250 | E41: 316797250 | F41: 2.4205427e+08 | G41: 8.7483866e+08 | H41: =+G41-F41 -> 6.3278438e+08 | I41: =+(G41/F41)-1 -> 2.6142252 | J41: =G41-C41 -> -1.0482297e+09 | K41: =IFERROR(G41/C41-1,"-") -> -0.54508188 | L41: =G41/$O$8 -> 0.0001008211
B42: 1.6.1.3.02-Permisos para explotar yacimientos mineros | D42: 151194 | E42: 151194 | F42: 60754.029 | G42: 49237.96 | H42: 0 | I42: =+(G42/F42)-1 -> -0.18955235 | J42: =G42-C42 -> 49237.96 | K42: =IFERROR(G42/C42-1,"-") -> - | L42: =G42/$O$8 -> 5.6744468e-09
B43: 1.6.1.3.03-Explotación yacimientos mineros | D43: 3409 | E43: 3409 | G43: 5561.66
...

Sheet Gráfico 15
B1: MINISTERIO DE HACIENDA Y ECONOMÍA
B2: DIRECCIÓN GENERAL DE PRESUPUESTO
B3: DIRECCIÓN DE ESTUDIOS ECONÓMICOS Y SEGUIMIENTO FINANCIERO
B6: Gráfico 15. Ingresos del Gobierno Central por Entidad Recaudadora
B7: Enero - Junio 2025 y 2026
B8: Valores en Millones de RD$
B11: Institución | C11: Recaudado 2025 | D11: Estimado 2026 | E11: Recaudado 2026
B12: DGII | C12: 4.7216779e+11 | D12: 5.0392156e+11 | E12: 5.1529067e+11
B13: DGA | C13: 1.2594511e+11 | D13: 1.3440794e+11 | E13: 1.2923452e+11
B14: TN | C14: 9.6617539e+09 | D14: 2.0382136e+10 | E14: 7.0425667e+09
H17: =E14-D14 -> -1.333957e+10
H18: =+E14/D14-1 -> -0.65447358
B26: Notas:
B27: 1. Excluye donaciones.
B28: 2. Se excluyen los RD$16,584.6 millones de recaudación directa de las otras recaudadoras.
B29: Fuente: Sistema de Información de la Gestión Financiera (SIGEF).

Sheet Gráfico 16
A2: MINISTERIO DE HACIENDA Y ECONOMÍA
A3: DIRECCIÓN GENERAL DE PRESUPUESTO
A4: DIRECCIÓN DE ESTUDIOS ECONÓMICOS Y SEGUIMIENTO FINANCIERO
C7: Gráfico 16. Distribución del Gasto por Clasificación Económica
C8: Enero - Junio 2025 y 2026
C9: Valores en millones de RD$
C29: Fuente: Sistema de Información de la Gestión Financiera (SIGEF).
C30: Notas: Cifras preliminares.
B33: 2025 | C33: 2026
A34: Gastos corrientes | B34: 6.3839376e+11 | C34: 6.8264143e+11 | D34: =+C34/$C$36 -> 0.89314686
A35: Gastos de capital | B35: 7.2673961e+10 | C35: 8.1668968e+10 | D35: =+C35/$C$36 -> 0.10685314
A36: Grand Total | B36: =B34+B35 -> 7.1106772e+11 | C36: =C34+C35 -> 7.643104e+11 | D36: =+(C36-B36)/B36 -> 0.07487709
D37: =+C36-B36 -> 5.3242682e+10

Sheet Tabla 5
A2: MINISTERIO DE HACIENDA Y ECONOMÍA
A3: DIRECCIÓN GENERAL DE PRESUPUESTO
A4: DIRECCIÓN DE ESTUDIOS ECONÓMICOS Y SEGUIMIENTO FINANCIERO
B7: Tabla 5. Gastos del Gobierno Central por Clasificación Económica Enero - Junio 2025 y 2026
B8: Valores en Millones de RD$
B10: DETALLE | C10: 2025 | D10: 2026 | J10: Variación 2026/2025 | L10: Ejecución % PIB
C11: Ejecución | D11: Presupuesto Inicial | E11: Presupuesto Vigente | F11: Comprometido* | G11: Devengado* | H11: Pagado* | I11: % Ejecución | N11: PIB Nominal (Millones RD$) | O11: 8.6771383e+12
J12: ABS. | K12: REL.
C13: 1 | D13: 2 | E13: 3 | F13: 4 | G13: 5 | H13: 6 | I13: 7= (5/2) | J13: 8 = (5-1) | K13: 9= 8/1 | L13: 10 = (5/PIB)
B14: 2.1 - Gastos corrientes | C14: =C15+C21+C22+C23+C24+C29 -> 6.3839376e+11 | D14: =D15+D21+D22+D23+D24+D29 -> 1407548685832 | E14: =E15+E21+E22+E23+E24+E29 -> 1.4072568e+12 | F14: =F15+F21+F22+F23+F24+F29 -> 8.9302471e+11 | G14: =G15+G21+G22+G23+G24+G29 -> 6.8264143e+11 | H14: =H15+H21+H22+H23+H24+H29 -> 6.4632689e+11 | I14: =IFERROR(G14/D14,"-") -> 0.48498602 | J14: =G14-C14 -> 4.4247675e+10 | K14: =IFERROR(J14/C14,"0.0%") -> 0.069310946 | L14: =G14/$O$11 -> 0.078671263
B15: 2.1.2 - Gastos de consumo | C15: =SUM(C16:C20) -> 2.2874581e+11 | D15: =SUM(D16:D20) -> 542875526448 | E15: =SUM(E16:E20) -> 5.4178963e+11 | F15: =SUM(F16:F20) -> 3.9189201e+11 | G15: =SUM(G16:G20) -> 2.3785589e+11 | H15: =SUM(H16:H20) -> 2.2945962e+11 | I15: =IFERROR(G15/D15,"-") -> 0.43814074 | J15: =G15-C15 -> 9.1100768e+09 | K15: =IFERROR(J15/C15,"0.0%") -> 0.039826202 | L15: =G15/$O$11 -> 0.027411789
B16: 2.1.2.1 - Remuneraciones | C16: 1.6387839e+11 | D16: 376964195659 | E16: 3.7603271e+11 | F16: 2.9378393e+11 | G16: 1.7326951e+11 | H16: 1.7309259e+11 | I16: =IFERROR(G16/D16,"-") -> 0.45964448 | J16: =G16-C16 -> 9.3911249e+09 | K16: =IFERROR(J16/C16,"0.0%") -> 0.05730545 | L16: =G16/$O$11 -> 0.019968509
B17: 2.1.2.2 - Bienes y servicios | C17: 6.4691683e+10 | D17: 161794237426 | E17: 1.6297926e+11 | F17: 9.784834e+10 | G17: 6.4326627e+10 | H17: 5.6110561e+10 | I17: =IFERROR(G17/D17,"-") -> 0.39758293 | J17: =G17-C17 -> -3.6505633e+08 | K17: =IFERROR(J17/C17,"0.0%") -> -0.005643018 | L17: =G17/$O$11 -> 0.0074133458
B18: 2.1.2.4 - Impuestos sobre los productos, la producción y las importaciones de las empresas | C18: 1.757384e+08 | D18: 315596345 | E18: 3.7954429e+08 | F18: 2.5974664e+08 | G18: 2.5974664e+08 | H18: 2.5646862e+08 | I18: =IFERROR(G18/D18,"-") -> 0.82303436 | J18: =G18-C18 -> 84008234 | K18: =IFERROR(J18/C18,"0.0%") -> 0.47803003 | L18: =G18/$O$11 -> 2.9934597e-05
B19: 2.1.2.7 - 5 % que se asigna durante el ejercicio para gasto corriente | C19: 0 | D19: 3385145672 | E19: 2.0942262e+09 | F19: 0 | G19: 0 | H19: 0 | I19: =IFERROR(G19/D19,"-") -> 0 | J19: =G19-C19 -> 0 | K19: =IFERROR(J19/C19,"0.0%") -> 0.0% | L19: =G19/$O$11 -> 0
B20: 2.1.2.8 - 1 % que se asigna durante el ejercicio para gasto corriente por calamidad pública | C20: 0 | D20: 416351346 | E20: 303888126 | F20: 0 | G20: 0 | H20: 0 | I20: =IFERROR(G20/D20,"-") -> 0 | J20: =G20-C20 -> 0 | K20: =IFERROR(J20/C20,"0.0%") -> 0.0% | L20: =G20/$O$11 -> 0
B21: 2.1.3 - Prestaciones de la seguridad social | C21: 3.9430129e+10 | D21: 101897864549 | E21: 100284334461 | F21: 9.0515632e+10 | G21: 4.3076684e+10 | H21: 4.3011878e+10 | I21: =IFERROR(G21/D21,"-") -> 0.42274373 | J21: =G21-C21 -> 3.6465551e+09 | K21: =IFERROR(J21/C21,"0.0%") -> 0.09248144 | L21: =G21/$O$11 -> 0.0049643883
B22: 2.1.4 - Intereses de la deuda | C22: 1.5091432e+11 | D22: 324257115564 | E22: 324257115564 | F22: 1.6472343e+11 | G22: 1.5906111e+11 | H22: 1.3230729e+11 | I22: =IFERROR(G22/D22,"-") -> 0.49054007 | J22: =G22-C22 -> 8.1467869e+09 | K22: =IFERROR(J22/C22,"0.0%") -> 0.053982862 | L22: =G22/$O$11 -> 0.018331056
B23: 2.1.5 - Subvenciones otorgadas a empresas | C23: 9039654288 | D23: 13786016885 | E23: 22513162760 | F23: 2.1169146e+10 | G23: 2.1169146e+10 | H23: 2.0929762e+10 | I23: =IFERROR(G23/D23,"-") -> 1.535552 | J23: =G23-C23 -> 1.2129492e+10 | K23: =IFERROR(J23/C23,"0.0%") -> 1.3418092 | L23: =G23/$O$11 -> 0.002439646
B24: 2.1.6 - Transferencias corrientes | C24: =SUM(C25:C28) -> 2.0879433e+11 | D24: 424672198458 | E24: 4.1834401e+11 | F24: 2.246633e+11 | G24: 2.2141742e+11 | H24: 2.2055755e+11 | I24: =IFERROR(G24/D24,"-") -> 0.5213843 | J24: =G24-C24 -> 1.2623084e+10 | K24: =IFERROR(J24/C24,"0.0%") -> 0.060457021 | L24: =G24/$O$11 -> 0.025517332
B25: 2.1.6.1 - Transferencias al sector privado | C25: 3.1232832e+10 | D25: 65883131456 | E25: 6.7540691e+10 | F25: 3.1262907e+10 | G25: 3.0485373e+10 | H25: 3.0215232e+10 | I25: =IFERROR(G25/D25,"-") -> 0.46271895 | J25: =G25-C25 -> -7.4745825e+08 | K25: =IFERROR(J25/C25,"0.0%") -> -0.023931812 | L25: =G25/$O$11 -> 0.0035132981
B26: 2.1.6.2 - Transferencias al sector público | C26: 1.7056524e+11 | D26: 342169100277 | E26: 3.3617755e+11 | F26: 1.8565845e+11 | G26: 1.8354749e+11 | H26: 1.8345222e+11 | I26: =IFERROR(G26/D26,"-") -> 0.53642332 | J26: =G26-C26 -> 1.2982241e+10 | K26: =IFERROR(J26/C26,"0.0%") -> 0.076113051 | L26: =G26/$O$11 -> 0.021152998
B27: 2.1.6.3 - Transferencia al sector externo | C27: 4.2990041e+08 | D27: 955120864 | E27: 1072392083 | F27: 3.8505036e+08 | G27: 3.7723817e+08 | H27: 3.6837245e+08 | I27: =IFERROR(G27/D27,"-") -> 0.39496381 | J27: =G27-C27 -> -52662235 | K27: =IFERROR(J27/C27,"0.0%") -> -0.12249868 | L27: =G27/$O$11 -> 4.3474952e-05
B28: 2.1.6.4 - Transferencias a otras instituciones públicas | C28: 6.5663578e+09 | D28: 15664845861 | E28: 1.3553379e+10 | F28: 7.3568946e+09 | G28: 7.0073206e+09 | H28: 6.5217255e+09 | I28: =IFERROR(G28/D28,"-") -> 0.44732778 | J28: =G28-C28 -> 4.4096288e+08 | K28: =IFERROR(J28/C28,"0.0%") -> 0.067154867 | L28: =G28/$O$11 -> 0.00080756125
B29: 2.1.9 - Otros gastos corrientes | C29: 1.4695096e+09 | D29: 59963928 | E29: 68573677 | F29: 61190630 | G29: 61190630 | H29: 60792374 | I29: =IFERROR(G29/D29,"-") -> 1.0204573 | J29: =G29-C29 -> -1.408319e+09 | K29: =IFERROR(J29/C29,"0.0%") -> -0.95835983 | L29: =G29/$O$11 -> 7.0519367e-06
B30: 2.2 - Gastos de capital | C30: =SUM(C31:C35)+C40 -> 7.2673961e+10 | D30: =SUM(D31:D35)+D40 -> 215284720455 | E30: =SUM(E31:E35)+E40 -> 2.2015513e+11 | F30: =SUM(F31:F35)+F40 -> 9.5024121e+10 | G30: =SUM(G31:G35)+G40 -> 8.1668968e+10 | H30: =SUM(H31:H35)+H40 -> 7.670208e+10 | I30: =IFERROR(G30/D30,"-") -> 0.3793533 | J30: =G30-C30 -> 8.9950069e+09 | K30: =IFERROR(J30/C30,"0.0%") -> 0.12377207 | L30: =G30/$O$11 -> 0.0094119703
B31: 2.2.1 - Construcciones en proceso | C31: 2.2985646e+10 | D31: 65675086633 | E31: 6.7207472e+10 | F31: 3.1091864e+10 | G31: 2.7919771e+10 | H31: 2.5392501e+10 | I31: =IFERROR(G31/D31,"-") -> 0.42511966 | J31: =G31-C31 -> 4.9341251e+09 | K31: =IFERROR(J31/C31,"0.0%") -> 0.21466115 | L31: =G31/$O$11 -> 0.0032176243
B32: 2.2.2 - Activos fijos (formación bruta de capital fijo) | C32: 1.3838297e+10 | D32: 71387716208 | E32: 7.3906627e+10 | F32: 3.0506172e+10 | G32: 2.1736929e+10 | H32: 1.9929214e+10 | I32: =IFERROR(G32/D32,"-") -> 0.30449117 | J32: =G32-C32 -> 7.8986321e+09 | K32: =IFERROR(J32/C32,"0.0%") -> 0.57078065 | L32: =G32/$O$11 -> 0.0025050804
B33: 2.2.4 - Objetos de valor | C33: 40833673 | D33: 16448771 | E33: 36311461 | F33: 17868298 | G33: 5048629.4 | H33: 3778560 | I33: =IFERROR(G33/D33,"-") -> 0.30693049 | J33: =G33-C33 -> -35785044 | K33: =IFERROR(J33/C33,"0.0%") -> -0.87636112 | L33: =G33/$O$11 -> 5.8183116e-07
B34: 2.2.5 - Activos no producidos | C34: 9.0094111e+08 | D34: 2770222220 | E34: 5.810345e+09 | F34: 4.3007529e+09 | G34: 3.055749e+09 | H34: 2.528842e+09 | I34: =IFERROR(G34/D34,"-") -> 1.10307 | J34: =G34-C34 -> 2.1548079e+09 | K34: =IFERROR(J34/C34,"0.0%") -> 2.39173 | L34: =G34/$O$11 -> 0.00035216092
B35: 2.2.6 - Transferencias de capital | C35: =SUM(C36:C39) -> 3.4908244e+10 | D35: =SUM(D36:D39) -> 72988962348 | E35: =SUM(E36:E39) -> 7.3015935e+10 | F35: =SUM(F36:F39) -> 2.9107464e+10 | G35: =SUM(G36:G39) -> 2.8951471e+10 | H35: =SUM(H36:H39) -> 2.8847744e+10 | I35: =IFERROR(G35/D35,"-") -> 0.39665546 | J35: =G35-C35 -> -5.9567732e+09 | K35: =IFERROR(J35/C35,"0.0%") -> -0.17064087 | L35: =G35/$O$11 -> 0.0033365229
B36: 2.2.6.1 - Transferencias de capital al sector privado | C36: 7.1639128e+08 | D36: 174800000 | E36: 1.2717091e+09 | F36: 8.6988994e+08 | G36: 8.5355661e+08 | H36: 8.3615661e+08 | I36: =IFERROR(G36/D36,"-") -> 4.883047 | J36: =G36-C36 -> 1.3716533e+08 | K36: =IFERROR(J36/C36,"0.0%") -> 0.19146706 | L36: =G36/$O$11 -> 9.8368446e-05
B37: 2.2.6.2 - Transferencias de capital al sector público | C37: 3.4190869e+10 | D37: 72814162348 | E37: 7.1743257e+10 | F37: 2.8236605e+10 | G37: 2.8096945e+10 | H37: 2.8010618e+10 | I37: =IFERROR(G37/D37,"-") -> 0.38587198 | J37: =G37-C37 -> -6.0939237e+09 | K37: =IFERROR(J37/C37,"0.0%") -> -0.17823249 | L37: =G37/$O$11 -> 0.0032380428
B38: 2.2.6.3 - Transferencia de capital al sector externo | C38: 0 | D38: 0 | E38: 0 | F38: 0 | G38: 0 | H38: 0 | I38: 0 | J38: 0 | K38: 0 | L38: 0
B39: 2.2.6.7 - Otras transferencias de capital | C39: 983893.33 | D39: 0 | E39: 969134.67 | F39: 969134.67 | G39: 969134.67 | H39: 969134.67 | I39: =IFERROR(G39/D39,"-") -> - | J39: =G39-C39 -> -14758.66 | K39: =IFERROR(J39/C39,"0.0%") -> -0.015000264 | L39: =G39/$O$11 -> 1.1168828e-07
B40: 2.2.8 - Gastos de capital, reserva presupuestaria | C40: 0 | D40: 2446284275 | E40: 178436291 | F40: 0 | G40: 0 | H40: 0 | I40: =IFERROR(G40/D40,"-") -> 0 | J40: =G40-C40 -> 0 | K40: =IFERROR(J40/C40,"0.0%") -> 0.0% | L40: =G40/$O$11 -> 0
B41: TOTAL | C41: =C14+C30 -> 7.1106772e+11 | D41: =D14+D30 -> 1622833406287 | E41: =E14+E30 -> 1.627412e+12 | F41: =F30+F14 -> 9.8804883e+11 | G41: =G30+G14 -> 7.643104e+11 | H41: =H30+H14 -> 7.2302897e+11 | I41: =IFERROR(G41/D41,"-") -> 0.4709728 | J41: =G41-C41 -> 5.3242682e+10 | K41: =IFERROR(J41/C41,"0.0%") -> 0.07487709 | L41: =G41/$O$11 -> 0.088083234
L42: =G42/$O$11 -> 0
B43: Notas: *Cifras preliminares.
B44: 1. Fecha de imputación al 30/06/2026 // Fecha de registro al 15/07/2026.
...

Sheet Tabla 6
C1: MINISTERIO DE HACIENDA Y ECONOMÍA
C2: DIRECCIÓN GENERAL DE PRESUPUESTO
C3: DIRECCIÓN DE ESTUDIOS ECONÓMICOS Y SEGUIMIENTO FINANCIERO
C5: Tabla 6. Fideicomisos Enero - Junio 2026
C6: Gobierno Central & Organismos Autónomos y Descentralizados
C7: Valores en millones RD$
C11: Detalle | D11: Presupuesto Inicial Ley Núm. 99-25 | E11: Presupuesto Vigente | F11: Compromiso | G11: Devengado | H11: Pagado
C13: (Concepto- Cuenta-Subcuenta-Auxiliar- Beneficiario)
C14: 1-ADMINISTRACION CENTRAL | D14: =+D15+D20 -> 30541911076 | E14: =+E15+E20 -> 28040619051 | F14: =+F15+F20 -> 1.1804821e+10 | G14: =+G15+G20 -> 1.1778821e+10 | H14: =+H15+H20 -> 1.1778821e+10
C15: 2.4-TRANSFERENCIAS CORRIENTES | D15: =+D16 -> 2050000000 | E15: =+E16 -> 1855000000 | F15: =+F16 -> 1205000000 | G15: =+G16 -> 1205000000 | H15: =+H16 -> 1205000000
C16: 2.4.4-TRANSFERENCIAS CORRIENTES A EMPRESAS PÚBLICAS NO FINANCIERAS | D16: =+D17 -> 2050000000 | E16: =+E17 -> 1855000000 | F16: =+F17 -> 1205000000 | G16: =+G17 -> 1205000000 | H16: =+H17 -> 1205000000
C17: 2.4.4.1-Transferencias corrientes a empresas públicas no financieras nacionales | D17: =+D18 -> 2050000000 | E17: =+E18 -> 1855000000 | F17: =+F18 -> 1205000000 | G17: =+G18 -> 1205000000 | H17: =+H18 -> 1205000000
C18: 2.4.4.1.06-Transferencias corrientes a empresas públicas no financieras nacionales para fideicomiso | D18: 2050000000 | E18: 1855000000 | F18: 1205000000 | G18: 1205000000 | H18: 1205000000
C19: FIDEICOMISO FILANTROPICO DE LOS JUEGOS CENTROAMERICANOS Y DEL CARIBE SANTO DOMINGO 2026 | D19: 0 | E19: 0 | F19: 1205000000 | G19: 1205000000 | H19: 1205000000
C20: 2.5-TRANSFERENCIAS DE CAPITAL | D20: =+D22 -> 28491911076 | E20: =+E22 -> 26185619051 | F20: =+F22 -> 1.0599821e+10 | G20: =+G22 -> 1.0573821e+10 | H20: =+H22 -> 1.0573821e+10
C21: 2.5.4-TRANSFERENCIAS DE CAPITAL A EMPRESAS PÚBLICAS NO FINANCIERAS | D21: 28491911076 | E21: 26185619051 | F21: 1.0599821e+10 | G21: 1.0573821e+10 | H21: 1.0573821e+10
C22: 2.5.4.1-Transferencias de capital a empresas públicas no financieras nacionales | D22: =+D23 -> 28491911076 | E22: =+E23 -> 26185619051 | F22: =+F23 -> 1.0599821e+10 | G22: =+G23 -> 1.0573821e+10 | H22: =+H23 -> 1.0573821e+10
C23: 2.5.4.1.03-Transferencias de capital a empresas públicas no financieras nacionales para fideicomiso | D23: 28491911076 | E23: 26185619051 | F23: 1.0599821e+10 | G23: 1.0573821e+10 | H23: 1.0573821e+10
C24: ALSTOM TRANSPORTE, S.A. | D24: 0 | E24: 0 | F24: 1.0320174e+08 | G24: 1.0320174e+08 | H24: 1.0320174e+08
C25: SOFRATESA | D25: 0 | E25: 0 | F25: 4.8859391e+08 | G25: 4.8859391e+08 | H25: 4.8859391e+08
C26: FIDEICOMISO PUBLICO DE ADMINISTRACION MIVIVIENDA | D26: 0 | E26: 0 | F26: 869626359 | G26: 869626359 | H26: 869626359
C27: FIDEICOMISO PARA LA CREACION DEL FONDO NACIONAL DE LA VIVIENDA FONVIVIENDA | D27: 0 | E27: 0 | F27: 26000000 | G27: 0 | H27: 0
C28: FIDEICOMISO PARA EL DESARROLLO DEL SISTEMA DE TRANSPORTE MASIVO DE LA REPUBLICA DOMINICANA FITRAM | D28: 0 | E28: 0 | F28: 9000000000 | G28: 9000000000 | H28: 9000000000
C29: Alstom Proyectos de Transporte, SRL | D29: 0 | E29: 0 | F29: 1.1239892e+08 | G29: 1.1239892e+08 | H29: 1.1239892e+08
C30: 2-INSTITUCIONES PUBLICAS DESCENTRALIZADAS O AUTONOMAS | D30: 700000000 | E30: 825000000 | F30: =+F31 -> 425000000 | G30: =+G31 -> 425000000 | H30: =+H31 -> 250000000
C31: 2.5-TRANSFERENCIAS DE CAPITAL | D31: 700000000 | E31: 825000000 | F31: =+F32 -> 425000000 | G31: =+G32 -> 425000000 | H31: =+H32 -> 250000000
C32: 2.5.4-TRANSFERENCIAS DE CAPITAL A EMPRESAS PÚBLICAS NO FINANCIERAS | D32: 700000000 | E32: 825000000 | F32: 425000000 | G32: 425000000 | H32: 250000000
C33: 2.5.4.1-Transferencias de capital a empresas públicas no financieras nacionales | D33: 700000000 | E33: 825000000 | F33: =+F34 -> 425000000 | G33: =+G34 -> 425000000 | H33: =+H34 -> 250000000
C34: 2.5.4.1.03-Transferencias de capital a empresas públicas no financieras nacionales para fideicomiso | D34: 700000000 | E34: 825000000 | F34: 425000000 | G34: 425000000 | H34: 250000000
C35: FIDEICOMISO DE MOVILIDAD Y TRANSPORTE FIMOVIT | D35: 0 | E35: 0 | F35: 425000000 | G35: 425000000 | H35: 250000000
C36: Total general | D36: =SUM(D14,D30) -> 31241911076 | E36: =SUM(E14,E30) -> 28865619051 | F36: =SUM(F14,F30) -> 1.2229821e+10 | G36: =SUM(G14,G30) -> 1.2203821e+10 | H36: =SUM(H14,H30) -> 1.2028821e+10
C37: Notas:
C38: Cifras preliminares*
C39: 1. Fecha de recaudación al 30/06/2026// Fecha de imputación al 15/07/2026.
C40: 2. El presupuesto vigente corresponde al presupuesto aprobado, referente a la Ley núm. 99-25 de Presupuesto General del Estado para el periodo fiscal 2026, incluyendo las modificaciones permitidas conforme a lo dispuesto en el Art. 48 de la Ley Orgánica de Presupuesto para el Sector Público (Ley núm. 423-06).
C41: Fuente: Sistema de Información de la Gestión Financiera (SIGEF).

Sheet Mapa 1
F1: MINISTERIO DE HACIENDA Y ECONOMÍA
F2: DIRECCIÓN GENERAL DE PRESUPUESTO
F3: DIRECCIÓN DE ESTUDIOS ECONÓMICOS Y SEGUIMIENTO FINANCIERO
A4: País | B4: Provincia | C4: Montos
A5: República Dominicana | B5: Distrito Nacional | C5: 6.6392552e+09
A6: República Dominicana | B6: Azua | C6: 1.4229549e+09
A7: República Dominicana | B7: Bahoruco | C7: 1.5626792e+08
A8: República Dominicana | B8: Barahona | C8: 5.2951823e+08
A9: República Dominicana | B9: Dajabón | C9: 5.2370177e+08
A10: República Dominicana | B10: Duarte | C10: 1.2613232e+09
A11: República Dominicana | B11: Elías Piña | C11: 5.4619304e+08
A12: República Dominicana | B12: El seibo | C12: 5.7578546e+08
A13: República Dominicana | B13: Espaillat | C13: 6.1594141e+08
A14: República Dominicana | B14: Independencia | C14: 2.054826e+08
A15: República Dominicana | B15: La Altagracia | C15: 9.1395756e+08
A16: República Dominicana | B16: La Romana | C16: 2.4217e+08
... A36: República Dominicana | B36: Santo Domingo | C36: 9.9062274e+09
A38: *Cifras preliminares.
A39: 1. Fecha de imputación al 30/06/2026 // fecha de registro al 15/07/2026.
A40: 2. Se excluye el monto a nivel multiprovincial del mapa.
A41: Fuente: Sistema de Información de la Gestión Financiera (SIGEF)
H50: Nota: Se excluye la inversión pública multi-provincial, la cual registró un valor de RD$5,490.2 millones.
H51: Fecha de imputación: 30/06/2026 // fecha de registro: 15/07/2026
H52: Fuente: Sistema de Información de la Gestión Financiera (SIGEF).

Sheet Tabla 7
C2: MINISTERIO DE HACIENDA Y ECONOMÍA
C3: DIRECCIÓN GENERAL DE PRESUPUESTO
C4: DIRECCIÓN DE ESTUDIOS ECONÓMICOS Y SEGUIMIENTO FINANCIERO
C6: Tabla 7. Gastos del Gobierno Central por Clasificación Institucional
C7: Enero-Junio 2025 - 2026
C8: Valores en millones de RD$ | O8: PIB Nominal (Millones RD$) | P8: 8.6771383e+12
C9: DETALLE | D9: 2025 | E9: 2026 | K9: VARIACIÓN 2026/2025 | M9: EJECUCIÓN % PIB
D10: DEVENGADO | E10: PRESUPUESTO INICIAL | F10: PRESUPUESTO VIGENTE | G10: COMPROMETIDO* | H10: DEVENGADO* | I10: PAGADO* | J10: % CUMPLIMIENTO
K11: ABS. | L11: REL.
D12: 1 | E12: 2 | F12: 3 | G12: 4 | H12: 5 | I12: 6 | J12: 7 | K12: 8 = (5-1) | L12: 9 = (8/1) | M12: 10 = (5/PIB)
C13: PODER LEGISLATIVO | D13: =D15+D14 -> 4.453577e+09 | E13: =E15+E14 -> 8907795183 | F13: =F15+F14 -> 8907795183 | G13: =G15+G14 -> 4.4538967e+09 | H13: =H15+H14 -> 4.4538967e+09 | I13: =I15+I14 -> 4.4538967e+09 | J13: =H13/F13 -> 0.4999999 | K13: =H13-D13 -> 319747.29 | L13: =IFERROR(K13/D13,"0.0%") -> 7.1795613e-05 | M13: =H13/$P$8 -> 0.00051329097
C14: 0101 - SENADO DE LA REPÚBLICA | D14: 1505389488 | E14: 3010779124 | F14: 3010779124 | G14: 1505388822 | H14: 1505388822 | I14: 1505388822 | J14: =H14/F14 -> 0.49999975 | K14: =H14-D14 -> -666 | L14: =IFERROR(K14/D14,"0.0%") -> -4.4241042e-07 | M14: =H14/$P$8 -> 0.00017348909
C15: 0102 - CÁMARA DE DIPUTADOS | D15: 2.9481875e+09 | E15: 5897016059 | F15: 5897016059 | G15: 2.9485079e+09 | H15: 2.9485079e+09 | I15: 2.9485079e+09 | J15: =H15/F15 -> 0.49999998 | K15: =H15-D15 -> 320413.29 | L15: =IFERROR(K15/D15,"0.0%") -> 0.00010868145 | M15: =H15/$P$8 -> 0.00033980188
C16: PODER EJECUTIVO | D16: =SUM(D17:D40) -> 4.3808443e+11 | E16: =SUM(E17:E40) -> 1069716331147 | F16: =SUM(F17:F40) -> 1.0742949e+12 | G16: =SUM(G17:G40) -> 6.6381322e+11 | H16: =SUM(H17:H40) -> 4.7398491e+11 | I16: =SUM(I17:I40) -> 4.595257e+11 | J16: =H16/F16 -> 0.44120559 | K16: =H16-D16 -> 3.5900483e+10 | L16: =IFERROR(K16/D16,"0.0%") -> 0.081948777 | M16: =H16/$P$8 -> 0.054624565
C17: 0201 - PRESIDENCIA DE LA REPÚBLICA | D17: 6.0214807e+10 | E17: 130289851958 | F17: 1.3217714e+11 | G17: 6.8632036e+10 | H17: 5.4531375e+10 | I17: 5.3495658e+10 | J17: =H17/F17 -> 0.41256282 | K17: =H17-D17 -> -5.6834313e+09 | L17: =IFERROR(K17/D17,"0.0%") -> -0.094385943 | M17: =H17/$P$8 -> 0.0062844884
C18: 0202 - MINISTERIO DE INTERIOR Y POLICÍA | D18: 3.3250439e+10 | E18: 81924855519 | F18: 8.2230259e+10 | G18: 4.3007603e+10 | H18: 3.7831511e+10 | I18: 3.7332649e+10 | J18: =H18/F18 -> 0.46006801 | K18: =H18-D18 -> 4.5810728e+09 | L18: =IFERROR(K18/D18,"0.0%") -> 0.13777481 | M18: =H18/$P$8 -> 0.0043599065
C19: 0203 - MINISTERIO DE DEFENSA | D19: 2.8253833e+10 | E19: 68686619634 | F19: 6.8748724e+10 | G19: 5.7715069e+10 | H19: 3.0996082e+10 | I19: 3.0511826e+10 | J19: =H19/F19 -> 0.45086047 | K19: =H19-D19 -> 2.7422489e+09 | L19: =IFERROR(K19/D19,"0.0%") -> 0.097057587 | M19: =H19/$P$8 -> 0.0035721549
C20: 0204 - MINISTERIO DE RELACIONES EXTERIORES | D20: 6.4146196e+09 | E20: 15186213375 | F20: 1.5221606e+10 | G20: 9.593216e+09 | H20: 5.8197393e+09 | I20: 5.7095767e+09 | J20: =H20/F20 -> 0.38233412 | K20: =H20-D20 -> -5.948803e+08 | L20: =IFERROR(K20/D20,"0.0%") -> -0.092738203 | M20: =H20/$P$8 -> 0.000670698
C21: 0205 - MINISTERIO DE HACIENDA Y ECONOMÍA | D21: 9.4843678e+09 | E21: 26273533371 | F21: 2.6402523e+10 | G21: 1.3328861e+10 | H21: 1.1504634e+10 | I21: 1.1248924e+10 | J21: =H21/F21 -> 0.43573996 | K21: =H21-D21 -> 2.0202665e+09 | L21: =IFERROR(K21/D21,"0.0%") -> 0.21301014 | M21: =H21/$P$8 -> 0.0013258558
C22: 0206 - MINISTERIO DE EDUCACIÓN | D22: 1.3771636e+11 | E22: 332030596342 | F22: 3.320306e+11 | G22: 2.5701835e+11 | H22: 1.4837577e+11 | I22: 1.4433931e+11 | J22: =H22/F22 -> 0.4468738 | K22: =H22-D22 -> 1.065941e+10 | L22: =IFERROR(K22/D22,"0.0%") -> 0.077401188 | M22: =H22/$P$8 -> 0.017099621
C23: 0207 - MINISTERIO DE SALUD PÚBLICA Y ASISTENCIA SOCIAL | D23: 7.1934791e+10 | E23: 180686724982 | F23: 1.8139604e+11 | G23: 8.8068582e+10 | H23: 8.0546266e+10 | I23: 7.7588584e+10 | J23: =H23/F23 -> 0.44403542 | K23: =H23-D23 -> 8.6114754e+09 | L23: =IFERROR(K23/D23,"0.0%") -> 0.11971225 | M23: =H23/$P$8 -> 0.0092825841
C24: 0208 - MINISTERIO DE DEPORTES Y RECREACIÓN | D24: 1.6130668e+09 | E24: 8634933410 | F24: 8634933410 | G24: 5.0145546e+09 | H24: 3.8049903e+09 | I24: 3.6211352e+09 | J24: =H24/F24 -> 0.44065079 | K24: =H24-D24 -> 2.1919234e+09 | L24: =IFERROR(K24/D24,"0.0%") -> 1.3588547 | M24: =H24/$P$8 -> 0.0004385075
