Workbook
Name \0: #REF!
Name \0: #REF!
Name \0: #REF!
Name \A: #REF!
Name \A: #REF!
Name \A: #REF!
Name \B: #REF!
Name \B: #REF!
Name \B: #REF!
Name \bmiii: [1]Q6!$E$32:$AH$32
Name \C: #REF!
Name \C: #REF!
Name \C: #REF!
Name \cc: [2]Debt!#REF!
Name \cc: [2]Debt!#REF!
Name \cc: [2]Debt!#REF!
Name \D: #REF!
Name \D: #REF!
Name \D: #REF!
Name \E: #REF!
Name \E: #REF!
Name \E: #REF!
Name \F: #REF!
Name \F: #REF!
Name \F: #REF!
Name \G: #REF!
Name \G: #REF!
Name \gg: [2]Debt!#REF!
Name \H: #REF!
Name \H: #REF!
Name \H: #REF!
Name \I: #REF!
Name \I: #REF!
Name \I: #REF!
Name \J: #REF!
Name \J: #REF!
Name \J: #REF!
Name \K: #REF!
Name \K: #REF!
Name \kk: [2]Debt!#REF!
Name \L: #REF!
Name \L: #REF!
Name \L: #REF!
Name \M: #REF!
Name \M: #REF!
Name \M: #REF!
Name \N: #REF!
Name \N: #REF!
Name \N: #REF!
Name \Ñ: #REF!
Name \Ñ: #REF!
Name \O: #REF!
Name \O: #REF!
Name \P: #REF!
Name \P: #REF!
Name \Q: #REF!
Name \Q: #REF!
Name \R: #REF!
Name \R: #REF!
Name \S: #REF!

Sheet Dinámica 
A1: MINISTERIO DE HACIENDA Y ECONOMÍA
A2: DIRECCIÓN GENERAL DE PRESUPUESTO
A3: DIRECCIÓN DE ESTUDIOS ECONÓMICOS Y SEGUIMIENTO FINANCIERO
A5: Ejecución del Gasto del Gobierno Central
A6: Tabla dinámica
A7: Ejecución 1ro de enero - 25 de septiembre de 2026 (fecha de imputación)
A8: Ejecución 1ro de enero - 28 de septiembre de 2026 (fecha de registro)
A9: En RD$
A13: Etiquetas de fila | B13: Sum of Suma de INICIAL | C13: Suma de Suma de VIGENTE | D13: Sum of Suma de DEVENGADO
A14: 1.1.1.1.1 - Administración central | B14: 1744025968276 | C14: 1.790399e+12 | D14: 1.2468095e+12
A15: 2 - GASTOS | B15: 1622833406287 | C15: 1.6692064e+12 | D15: 1.1783096e+12
A16: 2.1 - Gastos corrientes | B16: 1407548685832 | C16: 1.4469983e+12 | D16: 1.0424456e+12
A17: 2.1.2 - Gastos de consumo | B17: 542875526448 | C17: 5.6110078e+11 | D17: 3.738923e+11
A18: 2.1.3 - Prestaciones de la seguridad social | B18: 101897864549 | C18: 9.7874593e+10 | D18: 6.5404256e+10
A19: 2.1.4 - Intereses de la deuda | B19: 324257115564 | C19: 311003416933 | D19: 2.349181e+11
A20: 2.1.5 - Subvenciones otorgadas a empresas | B20: 13786016885 | C20: 43285686144 | D20: 3.2457268e+10
A21: 2.1.6 - Transferencias corrientes otorgadas | B21: 424672198458 | C21: 4.3362181e+11 | D21: 3.3566363e+11
A22: 2.1.9 - Otros gastos corrientes | B22: 59963928 | C22: 1.1202579e+08 | D22: 1.1001293e+08
A23: 2.2 - Gastos de capital | B23: 215284720455 | C23: 2.2220814e+11 | D23: 1.3586399e+11
A24: 2.2.1 - Construcciones en proceso | B24: 65675086633 | C24: 7.321345e+10 | D24: 4.5705199e+10
A25: 2.2.2 - Activos fijos (formación bruta de capital fijo) | B25: 71387716208 | C25: 6.45637e+10 | D25: 3.5417078e+10
... A36: Total general | B36: 1744025968276 | C36: 1.790399e+12 | D36: 1.2468095e+12

Sheet Fiscal Mes
A1: MINISTERIO DE HACIENDA Y ECONOMÍA
A2: DIRECCIÓN GENERAL DE PRESUPUESTO
A3: DIRECCIÓN DE ESTUDIOS ECONÓMICOS Y SEGUIMIENTO FINANCIERO
A5: Cuenta de Ahorro, Inversión y Financiamiento
A6: Gobierno Central
A7: Ejecución 1ero de enero - 25 de septiembre de 2026*
A8: Ley núm. 99-25
A9: En Millones RD$
C11: Indicadores | D11: Pres. Inicial | E11: Pres. Vigente | F11: Devengado | G11: % Devengado | H11: % del PIB
D12: Ley núm. 99-25
D13: 1 | E13: 2 | F13: 3 | G13: 4= 2/1 | H13: 5= (2/PIB)
C14: 1 - INGRESOS | D14: =D15+D17 -> 1342258153546 | E14: =E15+E17 -> 1.3842797e+12 | F14: =F15+F17 -> 987068 | G14: =IFERROR((F14*1000000)/D14,"-") -> 0.73537866 | H14: =1000000*F14/$D$34 -> 0.11315229
C15: 1.1 - Ingresos corrientes | D15: 1340556923171 | E15: 1.38142e+12 | F15: 986571 | G15: =IFERROR((F15*1000000)/D15,"-") -> 0.73594115 | H15: =1000000*F15/$D$34 -> 0.11309531
C16: 1.1.6.5 - Donaciones Corrientes | D16: 432436385 | E16: 6.2979469e+08 | F16: 465 | G16: =IFERROR((F16*1000000)/D16,"-") -> 1.0753027 | H16: =1000000*F16/$D$34 -> 5.3305156e-05
C17: 1.2 - Ingresos de capital | D17: 1701230375 | E17: 2.8596927e+09 | F17: 497 | G17: =IFERROR((F17*1000000)/D17,"-") -> 0.2921415 | H17: =1000000*F17/$D$34 -> 5.6973468e-05
C18: 1.2.4.4 - Donaciones de Capital | D18: 1701230375 | E18: 1.7754129e+09 | F18: 338 | G18: =IFERROR((F18*1000000)/D18,"-") -> 0.19867973 | H18: =1000000*F18/$D$34 -> 3.8746544e-05
C19: 2 - GASTOS | D19: =D20+D22 -> 1622833406287 | E19: =E20+E22 -> 1.6692064e+12 | F19: =F20+F22 -> 1.1783096e+12 | G19: =IFERROR(F19/D19,"-") -> 0.72608165 | H19: =F19/$D$34 -> 0.13507521
C20: 2.1 - Gastos corrientes | D20: 1407548685832 | E20: =Económica!D15 -> 1.4469983e+12 | F20: =Económica!E15 -> 1.0424456e+12 | G20: =IFERROR(F20/D20,"-") -> 0.74061066 | H20: =F20/$D$34 -> 0.11950048
C21: 2.1.4 - Intereses de la deuda | D21: 324257115564 | E21: =Económica!D18 -> 311003416933 | F21: =Económica!E18 -> 2.349181e+11 | G21: =IFERROR(F21/D21,"-") -> 0.72448095 | H21: =F21/$D$34 -> 0.026929777
C22: 2.2 - Gastos de capital | D22: 215284720455 | E22: =Económica!D22 -> 2.2220814e+11 | F22: =Económica!E22 -> 1.3586399e+11 | G22: =IFERROR(F22/D22,"-") -> 0.63108979 | H22: =21/$D$34 -> 2.4073296e-12
C23: RESULTADOS
C24: Resultado de la cuenta corriente (1.1-2.1) | D24: =D15-D20 -> -66991762661 | E24: =E15-E20 -> -6.5578327e+10 | F24: =1000000*F15-F20 -> -5.5874566e+10 | G24: =IFERROR(F24/D24,"-") -> 0.83405129 | H24: =F24/$D$34 -> -0.0064051666
C25: Resultado de la cuenta de capital (1.2-2.2) | D25: =D17-D22 -> -213583490080 | E25: =E17-E22 -> -2.1934845e+11 | F25: =1000000*F17-F22 -> -1.3536699e+11 | G25: =IFERROR(F25/D25,"-") -> 0.63378958 | H25: =F25/$D$34 -> -0.01551776
C26: Resultado primario (1- (2 - 2.1.4)) | D26: =(D14-(D19-D21)) -> 43681862823 | E26: =(E14-(E19-E21)) -> 2.6076639e+10 | F26: =((1000000*F14)-(F19-F21)) -> 4.3676547e+10 | G26: =IFERROR(F26/D26,"-") -> 0.9998783 | H26: =F26/$D$34 -> 0.0050068498
C27: Resultado financiero (1- 2) | D27: =D14-D19 -> -280575252741 | E27: =E14-E19 -> -2.8492678e+11 | F27: =1000000*F14-F19 -> -1.9124156e+11 | G27: =IFERROR(F27/D27,"-") -> 0.68160522 | H27: =F27/$D$34 -> -0.021922927
C28: FINANCIAMIENTO NETO | D28: =D30-D32 -> 280575252741 | E28: =E30-E32 -> 2.854003e+11 | F28: =+F30-F32 -> -6.8499535e+10 | G28: =+F28/D28 -> -0.24413962 | H28: =F28/$D$34 -> -0.0078524266
C30: 3.1 - Fuentes financieras | D30: 401767814730 | E30: 4.0659286e+11 | F30: 410834 | G30: =IFERROR(1000000*F30/D30,"-") -> 1.0225657 | H30: =1000000*F30/$D$34 -> 0.047095851
C32: 3.2 - Aplicaciones financieras | D32: 121192561989 | E32: =Económica!D30 -> 121192561989 | F32: =Económica!E30 -> 6.8499945e+10 | G32: =IFERROR(F32/D32,"-") -> 0.56521575 | H32: =F32/$D$34 -> 0.0078524737
C34: PIB Nominal (Millones RD$) | D34: 8.7233587e+12
C36: Notas:
C37: *Cifras preliminares
C38: 1. Se utilizó el PIB del Panorama Macroeconómico actualizado al 25 de agosto 2026, elaborado por el Ministerio de Hacienda y Economía
C39: 2. Fecha de imputación al 25 de septiembre de 2026 y fecha de registro al 28 de septiembre de 2026. La fecha de imputación representa los gastos o ingresos en el momento de su ejecución, mientras que la fecha de registro representa el momento de su registro en el sistema, en la medida que se van regularizando los pagos.
C40: 3. Ingresos y fuentes financieras: Dirección General de Política Tributaria, Ministerio de Hacienda y Economía
C41: 4. El presupuesto vigente incorpora apropiaciones financiadas con la fuente específica 5011, Fondo de Calamidades y Emergencias Públicas, conforme al artículo 43 de la Ley núm. 99-25 de Presupuesto General del Estado 2026, que autoriza su inclusión y la identificación de las fuentes financieras correspondientes.
C42: 5. El presupuesto vigente corresponde al presupuesto aprobado por el Congreso Nacional mediante la Ley núm. 99-25 de Presupuesto General del Estado para el ejercicio presupuestario del año 2026, modificada por la Ley núm. 43-26, más las modificaciones presupuestarias realizadas conforme a la Ley Orgánica de Presupuesto para el Sector Público, núm. 423-06.
C43: Fuente: Sistema de Información de la Gestión Financiera

Sheet Económica
A1: MINISTERIO DE HACIENDA Y ECONOMÍA
A2: DIRECCIÓN GENERAL DE PRESUPUESTO
A3: DIRECCIÓN DE ESTUDIOS ECONÓMICOS Y SEGUIMIENTO FINANCIERO
A5: Ejecución del Gasto del Gobierno Central
A6: Clasificación Económica
A7: Ejecución 1ero de enero - 25 de septiembre de 2026*
A8: Ley núm. 99-25
A9: En Millones RD$
B12: Indicadores | C12: Pres. Inicial | D12: Pres. Vigente | E12: Devengado
C13: Ley núm. 99-25
B14: 2 - GASTOS | C14: =+C15+C22 -> 1622833406287 | D14: =+D15+D22 -> 1.6692064e+12 | E14: =+E15+E22 -> 1.1783096e+12
B15: 2.1 - Gastos corrientes | C15: =SUM(C16:C21) -> 1407548685832 | D15: =SUM(D16:D21) -> 1.4469983e+12 | E15: =SUM(E16:E21) -> 1.0424456e+12
B16: 2.1.2 - Gastos de consumo | C16: 542875526448 | D16: 5.6110078e+11 | E16: 3.738923e+11
B17: 2.1.3 - Prestaciones de la seguridad social | C17: 101897864549 | D17: 9.7874593e+10 | E17: 6.5404256e+10
B18: 2.1.4 - Intereses de la deuda | C18: 324257115564 | D18: 311003416933 | E18: 2.349181e+11
B19: 2.1.5 - Subvenciones otorgadas a empresas | C19: 13786016885 | D19: 43285686144 | E19: 3.2457268e+10
B20: 2.1.6 - Transferencias corrientes otorgadas | C20: 424672198458 | D20: 4.3362181e+11 | E20: 3.3566363e+11
B21: 2.1.9 - Otros gastos corrientes | C21: 59963928 | D21: 1.1202579e+08 | E21: 1.1001293e+08
B22: 2.2 - Gastos de capital | C22: =SUM(C23:C28) -> 215284720455 | D22: =SUM(D23:D28) -> 2.2220814e+11 | E22: =SUM(E23:E28) -> 1.3586399e+11
B23: 2.2.1 - Construcciones en proceso | C23: 65675086633 | D23: 7.321345e+10 | E23: 4.5705199e+10
B24: 2.2.2 - Activos fijos (formación bruta de capital fijo) | C24: 71387716208 | D24: 6.45637e+10 | E24: 3.5417078e+10
B25: 2.2.4 - Objetos de valor | C25: 16448771 | D25: 43045523 | E25: 7164900
B26: 2.2.5 - Activos no producidos | C26: 2770222220 | D26: 5.4770812e+09 | E26: 4.0057016e+09
B27: 2.2.6 - Transferencias de capital otorgadas | C27: 72988962348 | D27: 7.8732432e+10 | E27: 5.0728846e+10
B28: 2.2.8 - Gastos de capital, reserva presupuestaria | C28: 2446284275 | D28: 178436291 | E28: 0
B29: 3 - FINANCIAMIENTO | C29: =C30 -> 121192561989 | D29: =D30 -> 121192561989 | E29: =E30 -> 6.8499945e+10
B30: 3.2-Aplicaciones financieras | C30: =SUM(C31:C33) -> 121192561989 | D30: =SUM(D31:D33) -> 121192561989 | E30: =SUM(E31:E33) -> 6.8499945e+10
B31: 3.2.1 - Incremento de activos financieros | C31: 5117721882 | D31: 5117721882 | E31: 3.7231034e+08
B32: 3.2.2 - Disminución de pasivos | C32: 116074840107 | D32: 116036840107 | E32: 6.8090226e+10
B33: 3.2.5-Importes a devengar por descuentos en colocaciones de títulos valores | C33: 0 | D33: 38000000 | E33: 37409287
B34: TOTAL GENERAL | C34: =C14+C29 -> 1744025968276 | D34: =D14+D29 -> 1.790399e+12 | E34: =E14+E29 -> 1.2468095e+12
B35: Notas:
B36: *Cifras preliminares
B37: 1. Fecha de imputación al 25 de septiembre de 2026 y fecha de registro al 28 de septiembre de 2026. La fecha de imputación representa los gastos o ingresos en el momento de su ejecución, mientras que la fecha de registro representa el momento de su registro en el sistema, en la medida que se van regularizando los pagos.
B38: 2. El presupuesto vigente corresponde al presupuesto aprobado por el Congreso Nacional mediante la Ley núm. 99-25 de Presupuesto General del Estado para el ejercicio presupuestario del año 2026, modificada por la Ley núm. 43-26, más las modificaciones presupuestarias realizadas conforme a la Ley Orgánica de Presupuesto para el Sector Público, núm. 423-06.
B39: Fuente: Sistema de Información de la Gestión Financiera

Sheet Institucional
A1: MINISTERIO DE HACIENDA Y ECONOMÍA
A2: DIRECCIÓN GENERAL DE PRESUPUESTO
A3: DIRECCIÓN DE ESTUDIOS ECONÓMICOS Y SEGUIMIENTO FINANCIERO
A5: Ejecución del Gasto del Gobierno Central
A6: Clasificación Institucional
A7: Ejecución 1ero de enero - 25 de septiembre de 2026*
A8: Ley núm. 99-25
A9: En Millones RD$
B12: Indicadores | C12: Pres. Inicial | D12: Pres. Vigente | E12: Devengado
C13: Ley núm. 99-25
B14: 2 - GASTOS | C14: =C15+C18+C44+C46+C48+C50+C52+C54+C56 -> 1622833406287 | D14: =D15+D18+D44+D46+D48+D50+D52+D54+D56 -> 1.6692064e+12 | E14: =E15+E18+E44+E46+E48+E50+E52+E54+E56 -> 1.1783096e+12
B15: 1 - Poder Legislativo | C15: =SUM(C16:C17) -> 8907795183 | D15: =SUM(D16:D17) -> 8907795183 | E15: =SUM(E16:E17) -> 6.7804592e+09
B16: 0101-SENADO DE LA REPÚBLICA | C16: 3010779124 | D16: 3010779124 | E16: 2357697336
B17: 0102-CÁMARA DE DIPUTADOS | C17: 5897016059 | D17: 5897016059 | E17: 4.4227619e+09
B18: 2 - Poder Ejecutivo | C18: =SUM(C19:C43) -> 1584338836059 | D18: =SUM(D19:D43) -> 1.6293433e+12 | E18: =SUM(E19:E43) -> 1.1484457e+12
B19: 0201-PRESIDENCIA DE LA REPÚBLICA | C19: 130289851958 | D19: 1.3223602e+11 | E19: 8.2965203e+10
B20: 0202-MINISTERIO DE INTERIOR Y POLICÍA | C20: 81924855519 | D20: 8.3932244e+10 | E20: 5.6906634e+10
B21: 0203-MINISTERIO DE DEFENSA | C21: 68686619634 | D21: 6.9457612e+10 | E21: 4.6843937e+10
B22: 0204-MINISTERIO DE RELACIONES EXTERIORES | C22: 15186213375 | D22: 1.5600085e+10 | E22: 9.555445e+09
B23: 0205-MINISTERIO DE HACIENDA Y ECONOMIA | C23: 26273533371 | D23: 2.9744318e+10 | E23: 1.8270957e+10
B24: 0206-MINISTERIO DE EDUCACIÓN | C24: 332030596342 | D24: 3.300306e+11 | E24: 2.3497704e+11
B25: 0207-MINISTERIO DE SALUD PÚBLICA Y ASISTENCIA SOCIAL | C25: 180686724982 | D25: 1.8411796e+11 | E25: 1.2396319e+11
B26: 0208-MINISTERIO DE DEPORTES Y RECREACIÓN | C26: 8634933410 | D26: 8.6349334e+09 | E26: 5.8785375e+09
B27: 0209-MINISTERIO DE TRABAJO | C27: 2899510003 | D27: 2.9802293e+09 | E27: 1.7062391e+09
B28: 0210-MINISTERIO DE AGRICULTURA | C28: 18697509949 | D28: 2.332127e+10 | E28: 1.4198955e+10
B29: 0211-MINISTERIO DE OBRAS PÚBLICAS Y COMUNICACIONES | C29: 73881683104 | D29: 8.5909113e+10 | E29: 6.0091209e+10
B30: 0212-MINISTERIO DE INDUSTRIA, COMERCIO Y MIPYMES (MICM) | C30: 21390709235 | D30: 23900418674 | E30: 1.795232e+10
... B43: 0999-ADMINISTRACION DE OBLIGACIONES DEL TESORO NACIONAL | C43: 152072486478 | D43: 173647135584 | E43: 1.4451137e+11
B44: 3 - Poder Judicial | C44: =C45 -> 12921593863 | D44: =D45 -> 14121593863 | E44: =E45 -> 10353192054
B45: 0301 - PODER JUDICIAL | C45: 12921593863 | D45: 14121593863 | E45: 10353192054
B46: 4 - Junta Central Electoral | C46: =C47 -> 10870891737 | D46: =D47 -> 10870891737 | E46: =E47 -> 8453168679
B47: 0401 - JUNTA CENTRAL ELECTORAL | C47: 10870891737 | D47: 10870891737 | E47: 8453168679
B48: 5 - Cámara de Cuentas de la República Dominicana | C48: =C49 -> 1524248087 | D48: =D49 -> 1524248087 | E48: =E49 -> 1.1431859e+09
B49: 0402 - CÁMARA DE CUENTAS | C49: 1524248087 | D49: 1524248087 | E49: 1.1431859e+09
B50: 6 - Tribunal Constitucional | C50: =C51 -> 1975371875 | D50: =D51 -> 1975371875 | E50: =E51 -> 1481528798
B51: 0403 - TRIBUNAL CONSTITUCIONAL | C51: 1975371875 | D51: 1975371875 | E51: 1481528798
B52: 7 - Defensor del Pueblo | C52: =C53 -> 400000000 | D52: =D53 -> 460041065 | E52: =E53 -> 3.0216512e+08
B53: 0404 - DEFENSOR DEL PUEBLO | C53: 400000000 | D53: 460041065 | E53: 3.0216512e+08
B54: 8 - Tribunal Superior Electoral (TSE) | C54: =C55 -> 1008000000 | D54: =D55 -> 1008000000 | E54: =E55 -> 7.559999e+08
B55: 0405 - TRIBUNAL SUPERIOR ELECTORAL (TSE) | C55: 1008000000 | D55: 1008000000 | E55: 7.559999e+08
...

Sheet Funcional
A1: MINISTERIO DE HACIENDA Y ECONOMÍA
A2: DIRECCIÓN GENERAL DE PRESUPUESTO
A3: DIRECCIÓN DE ESTUDIOS ECONÓMICOS Y SEGUIMIENTO FINANCIERO
A5: Ejecución del Gasto del Gobierno Central
A6: Clasificación Funcional
A7: Ejecución 1ero de enero - 25 de septiembre de 2026*
A8: Ley núm. 99-25
A9: En Millones RD$
B13: Indicadores | C13: Pres. Inicial | D13: Pres. Vigente | E13: Devengado
C14: Ley núm. 99-25
B15: 2-GASTOS | C15: =C16+C40+C75+C104+C149 -> 1622833406287 | D15: =D16+D40+D75+D104+D149 -> 1.6692064e+12 | E15: =E16+E40+E75+E104+E149 -> 1.1783096e+12
B16: 1-SERVICIOS GENERALES | C16: =C17+C23+C26+C32 -> 256969074361 | D16: =D17+D23+D26+D32 -> 2.7096581e+11 | E16: =E17+E23+E26+E32 -> 1.8143819e+11
B17: 1.1-Administración general | C17: =SUM(C18:C22) -> 102151484178 | D17: =SUM(D18:D22) -> 1.0740808e+11 | E17: =SUM(E18:E22) -> 7.2324669e+10
B18: 1.1.01-Órganos ejecutivos y legislativos | C18: 8027164129 | D18: 8164628513 | E18: 6.2488954e+09
B19: 1.1.02-Gestión administrativa, financiera, fiscal, económica y planificación | C19: 52957815438 | D19: 5.5728162e+10 | E19: 3.3230646e+10
B20: 1.1.03-Transferencias a instituciones públicas incluidos los gobiernos locales | C20: 29452658980 | D20: 3.1807279e+10 | E20: 2.3878082e+10
B21: 1.1.04-Órganos electorales y promoción de la participación ciudadana | C21: 10858756737 | D21: 10858756737 | E21: 8444067438
B22: 1.1.05-Gestión de la administración general para transversalizar el enfoque de género | C22: 855088894 | D22: 8.4925457e+08 | E22: 5.2297864e+08
B23: 1.2-Relaciones internacionales | C23: =SUM(C24:C25) -> 15009549215 | D23: =SUM(D24:D25) -> 1.540765e+10 | E23: =SUM(E24:E25) -> 9.4451538e+09
B24: 1.2.01-Relaciones internacionales desde oficinas en el país | C24: 5102968644 | D24: 5.0569913e+09 | E24: 2.3887461e+09
B25: 1.2.02-Relaciones internacionales desde oficinas en el exterior | C25: 9906580571 | D25: 1.0350659e+10 | E25: 7.0564077e+09
B26: 1.3-Defensa nacional | C26: =SUM(C27:C31) -> 55750231755 | D26: =SUM(D27:D31) -> 5.8762248e+10 | E26: =SUM(E27:E31) -> 3.9852151e+10
B27: 1.3.01-Defensa militar | C27: 51534148443 | D27: 5.3907671e+10 | E27: 3.635594e+10
B28: 1.3.03-Defensa civil | C28: 3838533234 | D28: 4433712798 | E28: 3.2428189e+09
B29: 1.3.06-Reducción del riesgo de desastres no climáticos | C29: 296441158 | D29: 312368527 | E29: 1.9300615e+08
B30: 1.3.07-Respuesta y recuperación de desastres no climáticos | C30: 0 | D30: 27386667 | E30: 4756000
B31: 1.3.98-Investigación y desarrollo para la defensa militar, civil y gestión de riesgos de desastres no climáticos | C31: 81108920 | D31: 81108920 | E31: 55630550
B32: 1.4-Justicia, orden público y seguridad | C32: =SUM(C33:C39) -> 84057809213 | D32: =SUM(D33:D39) -> 8.9387827e+10 | E32: =SUM(E33:E39) -> 5.9816212e+10
B33: 1.4.01-Servicios de seguridad interior | C33: 39543819862 | D33: 3.9524254e+10 | E33: 2.5785663e+10
B34: 1.4.02-Servicios de protección contra incendios | C34: 1394684725 | D34: 1.3468766e+09 | E34: 7.671999e+08
B35: 1.4.03-Administración y servicios de justicia | C35: 29123951403 | D35: 3.003456e+10 | E35: 2.1636233e+10
B36: 1.4.04-Prisiones | C36: 3220295124 | D36: 7.1699151e+09 | E36: 4.3789623e+09
B37: 1.4.05-Servicios de migraciones | C37: 5672580954 | D37: 5.7249517e+09 | E37: 3.8332798e+09
B38: 1.4.06-Administración y servicios de justicia relacionados con la violencia de género | C38: 68949757 | D38: 68949757 | E38: 51712317
B39: 1.4.98-Investigación y desarrollo relacionados con la justicia, orden público y seguridad | C39: 5033527388 | D39: 5.5183196e+09 | E39: 3.3631623e+09
B40: 2-SERVICIOS ECONÓMICOS | C40: =C41+C45+C51+C53+C59+C62+C68+C70+C72 -> 249200443837 | D40: =D41+D45+D51+D53+D59+D62+D68+D70+D72 -> 2.9523339e+11 | E40: =E41+E45+E51+E53+E59+E62+E68+E70+E72 -> 2.2385466e+11
B41: 2.1-Asuntos económicos, comerciales y laborales | C41: =SUM(C42:C44) -> 22840302147 | D41: =SUM(D42:D44) -> 4.869318e+10 | E41: =SUM(E42:E44) -> 3.548726e+10
B42: 2.1.01-Asuntos económicos y regulación del comercio | C42: 20922831438 | D42: 46739892257 | E42: 3.4319629e+10
B43: 2.1.02-Asuntos laborales generales | C43: 1670312352 | D43: 1.6754198e+09 | E43: 1.0215434e+09
B44: 2.1.03-Asuntos laborales para fortalecer la autonomía económica de las mujeres | C44: 247158357 | D44: 2.778684e+08 | E44: 1.4608687e+08
...

Sheet Objetal
A1: MINISTERIO DE HACIENDA Y ECONOMÍA
A2: DIRECCIÓN GENERAL DE PRESUPUESTO
A3: DIRECCIÓN DE ESTUDIOS ECONÓMICOS Y SEGUIMIENTO FINANCIERO
A5: Ejecución del Gasto del Gobierno Central
A6: Clasificación Objetal
A7: Ejecución 1ero de enero - 25 de septiembre de 2026*
A8: Ley núm. 99-25
A9: En Millones RD$
C11: Indicadores | D11: Pres. Inicial | E11: Pres. Vigente | F11: Devengado
D12: Ley núm. 99-25
C13: 2-GASTOS | D13: =SUM(D14,D20,D30,D40,D49,D56,D66,D71) -> 1622833406287 | E13: =SUM(E14,E20,E30,E40,E49,E56,E66,E71) -> 1.6692064e+12 | F13: =SUM(F14,F20,F30,F40,F49,F56,F66,F71) -> 1.1783096e+12
C14: 2.1-REMUNERACIONES Y CONTRIBUCIONES | D14: =SUM(D15:D19) -> 377772703498 | E14: =SUM(E15:E19) -> 3.9302461e+11 | F14: =SUM(F15:F19) -> 2.7106564e+11
C15: 2.1.1-REMUNERACIONES | D15: 309943604911 | E15: 3.103941e+11 | F15: 2.1251835e+11
C16: 2.1.2-SOBRESUELDOS | D16: 26271320885 | E16: 3.8841567e+10 | F16: 2.7090375e+10
C17: 2.1.3-DIETAS Y GASTOS DE REPRESENTACIÓN | D17: 668027539 | E17: 6.7788147e+08 | F17: 4.9064157e+08
C18: 2.1.4-GRATIFICACIONES Y BONIFICACIONES | D18: 2706133367 | E18: 2.6701474e+09 | F18: 1.5004172e+09
C19: 2.1.5-CONTRIBUCIONES A LA SEGURIDAD SOCIAL | D19: 38183616796 | E19: 4.0440916e+10 | F19: 2.9465856e+10
C20: 2.2-CONTRATACIÓN DE SERVICIOS | D20: =SUM(D21:D29) -> 110169756792 | E20: =SUM(E21:E29) -> 1.1580799e+11 | F20: =SUM(F21:F29) -> 7.342405e+10
C21: 2.2.1-SERVICIOS BÁSICOS | D21: 11443137328 | E21: 1.2715722e+10 | F21: 1.0146147e+10
C22: 2.2.2-PUBLICIDAD, IMPRESIÓN Y ENCUADERNACIÓN | D22: 11025261284 | E22: 1.1990587e+10 | F22: 6.2044139e+09
C23: 2.2.3-VIÁTICOS | D23: 5430213176 | E23: 4.4806645e+09 | F23: 2.9899693e+09
C24: 2.2.4-TRANSPORTE Y ALMACENAJE | D24: 3335613293 | E24: 3.9930938e+09 | F24: 1.5314382e+09
C25: 2.2.5-ALQUILERES Y RENTAS | D25: 10669404203 | E25: 1.560224e+10 | F25: 8.6449582e+09
C26: 2.2.6-SEGUROS | D26: 9660946458 | E26: 1.0438723e+10 | F26: 7.5726644e+09
C27: 2.2.7-SERVICIOS DE CONSERVACIÓN, REPARACIONES MENORES E INSTALACIONES TEMPORALES | D27: 6526168737 | E27: 7.6082649e+09 | F27: 3.3957777e+09
C28: 2.2.8-OTROS SERVICIOS NO INCLUIDOS EN CONCEPTOS ANTERIORES | D28: 22811971167 | E28: 2.0291338e+10 | F28: 9.4560613e+09
C29: 2.2.9-OTRAS CONTRATACIONES DE SERVICIOS | D29: 29267041146 | E29: 2.8687357e+10 | F29: 2.3482621e+10
C30: 2.3-MATERIALES Y SUMINISTROS | D30: =SUM(D31:D39) -> 65411381413 | E30: =SUM(E31:E39) -> 6.3619735e+10 | F30: =SUM(F31:F39) -> 3.4295812e+10
C31: 2.3.1-ALIMENTOS Y PRODUCTOS AGROFORESTALES | D31: 11702447899 | E31: 1.2791453e+10 | F31: 5.8026202e+09
C32: 2.3.2-TEXTILES Y VESTUARIOS | D32: 5611935809 | E32: 6.1736899e+09 | F32: 3.1763908e+09
C33: 2.3.3-PAPEL, CARTÓN E IMPRESOS | D33: 4059350557 | E33: 2.472203e+09 | F33: 1.4222231e+09
C34: 2.3.4-PRODUCTOS FARMACÉUTICOS | D34: 15158879690 | E34: 1.524308e+10 | F34: 9.5420935e+09
C35: 2.3.5-CUERO, CAUCHO Y PLÁSTICO | D35: 591440202 | E35: 5.5180053e+08 | F35: 2.7560844e+08
C36: 2.3.6-PRODUCTOS DE MINERALES, METÁLICOS Y NO METÁLICOS | D36: 3092772923 | E36: 3.7898473e+09 | F36: 2.5500837e+09
C37: 2.3.7-COMBUSTIBLES, LUBRICANTES, PRODUCTOS QUÍMICOS Y CONEXOS | D37: 10275200554 | E37: 9.8808781e+09 | F37: 5.7270665e+09
C38: 2.3.8-GASTOS QUE SE ASIGNARÁN DURANTE EL EJERCICIO (ART. 32 Y 33 LEY 423-06) | D38: 3801497018 | E38: 8.4004218e+08 | F38: 0
C39: 2.3.9-PRODUCTOS Y ÚTILES VARIOS | D39: 11117856761 | E39: 1.1876741e+10 | F39: 5.7997261e+09
C40: 2.4-TRANSFERENCIAS CORRIENTES | D40: =SUM(D41:D48) -> 540356079892 | E40: =SUM(E41:E48) -> 5.7478208e+11 | F40: =SUM(F41:F48) -> 4.3352515e+11
C41: 2.4.1-TRANSFERENCIAS CORRIENTES AL SECTOR PRIVADO | D41: 167780996005 | E41: 1.6442956e+11 | F41: 1.1190104e+11
C42: 2.4.2-TRANSFERENCIAS CORRIENTES AL GOBIERNO GENERAL NACIONAL | D42: 181942892117 | E42: 1.8847983e+11 | F42: 1.3192905e+11
...

Sheet Proyectos de Inversión
A1: MINISTERIO DE HACIENDA Y ECONOMÍA
A2: DIRECCIÓN GENERAL DE PRESUPUESTO
A3: DIRECCIÓN DE ESTUDIOS ECONÓMICOS Y SEGUIMIENTO FINANCIERO
A5: Ejecución del Gasto del Gobierno Central
A6: Proyectos de inversión
A7: Ejecución 1ero de enero - 25 de septiembre de 2026*
A8: Ley núm. 99-25
A9: En Millones RD$
C12: Indicadores | D12: Pres. Inicial | E12: Pres. Vigente | F12: Devengado
C13: 2-GASTOS | D13: 96543478243 | E13: 1.0710686e+11 | F13: 6.5551e+10
C14: 01-DISTRITO NACIONAL | D14: 11233558074 | E14: 1.4373903e+10 | F14: 9.3244521e+09
C15: 10-FONDO GENERAL | D15: 7222922235 | E15: 9.5413816e+09 | F15: 6.4265691e+09
C16: 01-REMODELACIÓN CLUB DEPORTIVO, SOCIAL Y CULTURAL VILLA FRANCISCA, SECTOR VILLA FRANCISCA, DISTRITO NACIONAL. | D16: 40000000 | E16: 49196632 | F16: 48739108
C17: 02-REMODELACIÓN DE LA OFICINA DEL COLEGIO DOMINICANO DE PERIODISTAS, DISTRITO NACIONAL | D17: 0 | E17: 10650060 | F17: 0
C18: 04-CONSTRUCCIÓN DE 14 ESTANCIAS INFANTILES DE LA PROVINCIA DISTRITO NACIONAL | D18: 11961356 | E18: 44414977 | F18: 44241921
C19: 04-RECUPERACION DEL MARGEN OCCIDENTAL DEL RÍO OZAMA EN EL BARRIO DE GUALEY, DISTRITO NACIONAL | D19: 404611876 | E19: 404611876 | F19: 2.1928046e+08
C20: 05-AMPLIACIÓN DE LA CAPACIDAD DE TRANSPORTE DE LA LÍNEA 2 DEL METRO DE SANTO DOMINGO | D20: 250000000 | E20: 238000000 | F20: 93742590
C21: 05-CONSTRUCCIÓN DE PLANTELES EDUCATIVOS EN LA PROVINCIA DISTRITO NACIONAL (FASE 3) | D21: 74617343 | E21: 61222708 | F21: 61222062
C22: 05-CONSTRUCCIÓN EDIFICIO NUEVA SEDE CENTRAL DE LA POLICÍA NACIONAL EN EL DISTRITO NACIONAL | D22: 20321906 | E22: 24734851 | F22: 6623116.8
C23: 05-CONSTRUCCIÓN VÍA MARGINAL PASEO DEL RÍO EN LOS SECTORES LA CIÉNAGA Y LOS GUANDULES, DISTRITO NACIONAL | D23: 50000000 | E23: 50000000 | F23: 49938937
C24: 05-RECONSTRUCCIÓN DE CALLES EN LA URBANIZACION ALTOS ARROYO HONDO III, AFECTADAS POR EL DISTURBIO TROPICAL NO. 22, DISTRITO NACIONAL | D24: 30904487 | E24: 6609263 | F24: 0
... C2200: Total general | D2200: 96543478243 | E2200: 1.0710686e+11 | F2200: 6.5551e+10
C2201: Notas:
C2202: *Cifras preliminares
C2203: 1. Fecha de imputación al 25 de septiembre de 2026 y fecha de registro al 28 de septiembre de 2026. La fecha de imputación representa los gastos o ingresos en el momento de su ejecución, mientras que la fecha de registro representa el momento de su registro en el sistema, en la medida que se van regularizando los pagos.
C2204: 2. El presupuesto vigente corresponde al presupuesto aprobado por el Congreso Nacional mediante la Ley núm. 99-25 de Presupuesto General del Estado para el ejercicio presupuestario del año 2026, modificada por la Ley núm. 43-26, más las modificaciones presupuestarias realizadas conforme a la Ley Orgánica de Presupuesto para el Sector Público, núm. 423-06.
C2205: Fuente: Sistema de Información de la Gestión Financiera

Sheet Género
B1: MINISTERIO DE HACIENDA Y ECONOMÍA
B2: DIRECCIÓN GENERAL DE PRESUPUESTO
B3: DIRECCIÓN DE ESTUDIOS ECONÓMICOS Y SEGUIMIENTO FINANCIERO
B5: Ejecución del Gasto del Gobierno Central
B6: Gastos para reducir la brecha de género según clasificador funcional
B7: Ejecución 1ero de enero - 25 de septiembre de 2026*
B8: Ley núm. 99-25
B9: En Millones RD$
B12: Indicadores | C12: Pres. Inicial | D12: Pres. Vigente | E12: Devengado
C14: Ley núm. 99-25
B15: 1-SERVICIOS GENERALES | C15: =C16+C18 -> 924038651 | D15: =D16+D18 -> 9.1820433e+08 | E15: =E16+E18 -> 5.7469096e+08
B16: 1.1-Administración general | C16: =C17 -> 855088894 | D16: =D17 -> 8.4925457e+08 | E16: =E17 -> 5.2297864e+08
B17: 1.1.05-Gestión de la administración general para transversalizar el enfoque de género | C17: 855088894 | D17: 8.4925457e+08 | E17: 5.2297864e+08
B18: 1.4-Justicia, orden público y seguridad | C18: =C19 -> 68949757 | D18: =D19 -> 68949757 | E18: =E19 -> 51712317
B19: 1.4.06-Administración y servicios de justicia relacionados con la violencia de género | C19: 68949757 | D19: 68949757 | E19: 51712317
B20: 2-SERVICIOS ECONÓMICOS | C20: =C21 -> 247158357 | D20: =D21 -> 2.778684e+08 | E20: =E21 -> 1.4608687e+08
B21: 2.1-Asuntos económicos, comerciales y laborales | C21: =C22 -> 247158357 | D21: =D22 -> 2.778684e+08 | E21: =E22 -> 1.4608687e+08
B22: 2.1.03-Asuntos laborales para fortalecer la autonomía económica de las mujeres | C22: 247158357 | D22: 2.778684e+08 | E22: 1.4608687e+08
B23: 4-SERVICIOS SOCIALES | C23: =C24+C26+C28 -> 1284834128 | D23: =D24+D26+D28 -> 1.3342626e+09 | E23: =E24+E26+E28 -> 6.5699782e+08
B24: 4.2-Salud | C24: =C25 -> 26513048 | D24: =D25 -> 27211488 | E24: =E25 -> 6011793.1
B25: 4.2.04-Servicios médicos en salud sexual/reproductiva y de centros de salud materno infantil | C25: 26513048 | D25: 27211488 | E25: 6011793.1
B26: 4.5-Protección social | C26: =C27 -> 6033490 | D26: =D27 -> 6033490 | E26: =E27 -> 0
B27: 4.5.05-Familia e hijos | C27: 6033490 | D27: 6033490 | E27: 0
B28: 4.6-Equidad de género | C28: =C29+C31+C32+C30 -> 1252287590 | D28: =D29+D31+D32+D30 -> 1.3010176e+09 | E28: =E29+E31+E32+E30 -> 6.5098603e+08
B29: 4.6.01-Acciones focalizada en mujeres | C29: 298552955 | D29: 284252955 | E29: 1.5054879e+08
B30: 4.6.02-Corresponsabilidad social y pública en el cuidado de la familia y la reproducción de la fuerza de trabajo | C30: 112471764 | D30: 112471764 | E30: 12619959
B31: 4.6.03-Acciones para una cultura de igualdad de género. | C31: 314754182 | D31: 3.3492382e+08 | E31: 1.1414238e+08
B32: 4.6.04-Acciones de prevención, atención y protección de violencia de género | C32: 526508689 | D32: 569369086 | E32: 3.7367489e+08
B33: TOTAL | C33: =C15+C20+C23 -> 2456031136 | D33: =D15+D20+D23 -> 2.5303353e+09 | E33: =E15+E20+E23 -> 1.3777757e+09
B34: Notas:
B35: *Cifras preliminares
B36: 1. Fecha de imputación al 25 de septiembre de 2026 y fecha de registro al 28 de septiembre de 2026. La fecha de imputación representa los gastos o ingresos en el momento de su ejecución, mientras que la fecha de registro representa el momento de su registro en el sistema, en la medida que se van regularizando los pagos.
B37: 2. El presupuesto vigente corresponde al presupuesto aprobado por el Congreso Nacional mediante la Ley núm. 99-25 de Presupuesto General del Estado para el ejercicio presupuestario del año 2026, modificada por la Ley núm. 43-26, más las modificaciones presupuestarias realizadas conforme a la Ley Orgánica de Presupuesto para el Sector Público, núm. 423-06.
B38: Fuente: Sistema de Información de la Gestión Financiera
B260: 1.Fecha de imputación al 31/07/2022 // Fecha de registro al 07/08/2022

Sheet Cambio climático 
B1: MINISTERIO DE HACIENDA Y ECONOMÍA
B2: DIRECCIÓN GENERAL DE PRESUPUESTO | L2: PIB Nominal (Millones RD$) | M2: 8723358.7
B3: DIRECCIÓN DE ESTUDIOS ECONÓMICOS Y SEGUIMIENTO FINANCIERO
B5: Ejecución del Gasto del Gobierno Central
B6: Incidencia del gasto del Gobierno Central en el cambio climático
B7: Ejecución 1ero de enero - 25 de septiembre de 2026*
B8: Ley núm. 99-25
B9: En Millones RD$
B11: Indicadores | C11: Pres. Inicial | D11: Pres. Vigente | E11: Devengado | F11: Incidencia positiva | G11: Incidencia negativa | H11: % PIB
C14: Ley núm. 99-25
C15: 1 | D15: 2 | E15: 3 | F15: 4 | G15: 5 | H15: 6= (2/PIB)
B16: 1-SERVICIOS GENERALES | C16: =C17 -> 1394.6847 | D16: =D17 -> 1346.8766 | E16: =E17 -> 767.1999 | F16: =F17 -> 767.1999 | G16: =G17 -> 0 | H16: =E16/$M$2 -> 8.7947765e-05
B17: 1.4-Justicia, orden público y seguridad | C17: =C18 -> 1394.6847 | D17: =D18 -> 1346.8766 | E17: =E18 -> 767.1999 | F17: =F18 -> 767.1999 | G17: 0 | H17: =E17/$M$2 -> 8.7947765e-05
B18: 1.4.02-Servicios de protección contra incendios | C18: 1394.6847 | D18: 1346.8766 | E18: 767.1999 | F18: =E18 -> 767.1999 | G18: 0 | H18: =E18/$M$2 -> 8.7947765e-05
B19: 2-SERVICIOS ECONÓMICOS | C19: =C20+C23+C29+C31 -> 132703.62 | D19: =D20+D23+D29+D31 -> 130507.21 | E19: =E20+E23+E29+E31 -> 110871.42 | F19: =F20+F23+F29+F31 -> 21483.839 | G19: =G20+G23+G29+G31 -> 89387.581 | H19: =E19/$M$2 -> 0.012709717
B20: 2.2-Agropecuaria, caza, pesca y silvicultura | C20: =C22+C21 -> 1077.5238 | D20: =D22+D21 -> 1155.607 | E20: =E22+E21 -> 503.46228 | F20: =F22+F21 -> 503.46228 | G20: =G22+G21 -> 0 | H20: =E20/$M$2 -> 5.771427e-05
B21: 2.2.04-Conservación, ampliación y explotación racionalizada de reservas forestales | C21: 100 | D21: 94.122138 | E21: 0 | F21: =E21 -> 0 | G21: 0 | H21: =E21/$M$2 -> 0
B22: 2.2.06-Gestión o apoyo de labores de reforestación | C22: 977.52377 | D22: 1061.4849 | E22: 503.46228 | F22: =E22 -> 503.46228 | G22: 0 | H22: =E22/$M$2 -> 5.771427e-05
B23: 2.4-Energía y combustible | C23: =SUM(C24:C28) -> 95599.386 | D23: =SUM(D24:D28) -> 98285.053 | E23: =SUM(E24:E28) -> 90049.66 | F23: =SUM(F24:F28) -> 1379.8186 | G23: =SUM(G24:G28) -> 88669.841 | H23: =E23/$M$2 -> 0.01032282
B24: 2.4.03-Combustible | C24: 581.37626 | D24: 585.28991 | E24: 353.07155 | F24: 0 | G24: =E24 -> 353.07155 | H24: =E24/$M$2 -> 4.0474267e-05
B25: 2.4.04-Energía eléctrica de fuentes termoeléctricas | C25: 92475.769 | D25: 95204.075 | E25: 88316.77 | F25: 0 | G25: =E25 -> 88316.77 | H25: =E25/$M$2 -> 0.01012417
B26: 2.4.05-Energía eléctrica de fuentes hidroeléctricas | C26: 288.90504 | D26: 288.90504 | E26: 0 | F26: =E26 -> 0 | G26: 0 | H26: =E26/$M$2 -> 0
B27: 2.4.08-Energía eléctrica de fuentes nucleares | C27: 19.334653 | D27: 45.483553 | E27: 19.837638 | F27: =E27 -> 19.837638 | G27: 0 | H27: =E27/$M$2 -> 2.2740826e-06
B28: 2.4.09-Conservación, aprovechamiento y explotación racionalizada de fuentes de electricidad | C28: 2234.0003 | D28: 2161.2996 | E28: 1359.981 | F28: =E28 -> 1359.981 | G28: 0 | H28: =E28/$M$2 -> 0.00015590107
B29: 2.5-Minería, manufactura y construcción | C29: =C30 -> 983.65026 | D29: =D30 -> 986.03751 | E29: =E30 -> 717.73942 | F29: 0 | G29: =G30 -> 717.73942 | H29: =E29/$M$2 -> 8.2277875e-05
B30: 2.5.01-Extracción de recursos minerales | C30: 983.65026 | D30: 986.03751 | E30: 717.73942 | F30: 0 | G30: =E30 -> 717.73942 | H30: =E30/$M$2 -> 8.2277875e-05
B31: 2.6-Transporte | C31: =C32 -> 35043.059 | D31: =D32 -> 30080.514 | E31: =E32 -> 19600.558 | F31: =F32 -> 19600.558 | G31: =G32 -> 0 | H31: =E31/$M$2 -> 0.002246905
B32: 2.6.03-Transporte por ferrocarril | C32: 35043.059 | D32: 30080.514 | E32: 19600.558 | F32: =E32 -> 19600.558 | H32: =E32/$M$2 -> 0.002246905
B33: 3-PROTECCIÓN DEL MEDIO AMBIENTE | C33: =C34+C37+C48 -> 14779.834 | D33: =D34+D37+D48 -> 12656.498 | E33: =E34+E37+E48 -> 6282.0826 | F33: =F34+F37+F48 -> 6260.5425 | G33: =G34+G37+G48 -> 21.540146 | H33: =E33/$M$2 -> 0.00072014494
B34: 3.1-Protección del aire, agua y suelo | C34: =C35+C36 -> 562.05831 | D34: =D35+D36 -> 562.34311 | E34: =E35+E36 -> 355.91942 | F34: =F35+F36 -> 355.91942 | G34: =G35+G36 -> 0 | H34: =E34/$M$2 -> 4.0800732e-05
B35: 3.1.01-Reducción de la contaminación | C35: 228.885 | D35: 235.79019 | E35: 159.17103 | F35: =E35 -> 159.17103 | G35: 0 | H35: =E35/$M$2 -> 1.8246531e-05
B36: 3.1.04-Protección del suelo contra la erosión y otras formas de degradación física | C36: 333.17331 | D36: 326.55291 | E36: 196.74839 | F36: =E36 -> 196.74839 | G36: 0 | H36: =E36/$M$2 -> 2.2554201e-05
B37: 3.2-Protección de la biodiversidad y ordenación de desechos | C37: =SUM(C38:C47) -> 7891.9936 | D37: =SUM(D38:D47) -> 7795.92 | E37: =SUM(E38:E47) -> 3745.6199 | F37: =SUM(F38:F47) -> 3724.0797 | G37: =SUM(G38:G47) -> 21.540146 | H37: =E37/$M$2 -> 0.00042937818
B38: 3.2.02-Ordenación de desechos | C38: 1430.7885 | D38: 1314.8594 | E38: 52.409259 | F38: =E38 -> 52.409259 | G38: 0 | H38: =E38/$M$2 -> 6.007922e-06
B39: 3.2.04-Conciencia y conocimiento de la biodiversidad | C39: 402.89479 | D39: 422.61479 | E39: 225.46935 | F39: =E39 -> 225.46935 | G39: 0 | H39: =E39/$M$2 -> 2.5846622e-05
B40: 3.2.06-Economía verde | C40: 5.8 | D40: 11.145527 | E40: 6.1987125 | F40: =E40 -> 6.1987125 | G40: 0 | H40: =E40/$M$2 -> 7.1058782e-07
B41: 3.2.09-Áreas protegidas y otras medidas de conservación | C41: 1341.8323 | D41: 1417.7093 | E41: 777.15042 | F41: =E41 -> 777.15042 | G41: 0 | H41: =E41/$M$2 -> 8.908844e-05
B42: 3.2.10-Restauración | C42: 1205.8959 | D42: 1196.3191 | E42: 533.825 | F42: =E42 -> 533.825 | G42: 0 | H42: =E42/$M$2 -> 6.1194893e-05
B43: 3.2.11-Uso sostenible | C43: 96.423204 | D43: 96.423204 | E43: 54.137564 | F43: =E43 -> 54.137564 | G43: 0 | H43: =E43/$M$2 -> 6.2060458e-06
B44: 3.2.12-Prevención de la producción de residuos por modificación de procesos | C44: 1.3 | D44: 1.3 | E44: 0.48940078 | F44: =E44 -> 0.48940078 | G44: 0 | H44: =E44/$M$2 -> 5.6102333e-08
...
