Workbook

Sheet Ficha 1
B2: Ficha 1: Antecedentes del programa
B4: 1. Información general
B6: Nombre del programa: | C6: Salud Materno Neonatal
B7: Institución responsable: | C7: Servicio Nacional de Salud
B8: Población objetivo y cantidad: | C8: Población Gestante, Puerperas y Población Neonatal que acuden a los hospitales de la Red de Salud Pública | D8: Condición o aspecto de interés: | E8: Mortalidad materno y neonatal
B9: Año de inicio: | C9: 2027 | D9: Presupuesto aprobado: | E9: 2,884,121,626
B10: Otras instituciones involucradas
B11: Hospital Maternidad San Lorenzo de Los Mina y Hospital Maternidad Nuestra Sra. de La Altagracia
B12: Objetivos de desarrollo (END/PNPSP) a los que contribuye el programa
B13: • La Estrategia Nacional de Desarrollo 2030 (Ley 1-12), que establece en su Eje 2 el objetivo de garantizar el acceso a servicios de salud de calidad y reducir las desigualdades en salud, priorizando la atención materna y neonatal como componente esencial del bienestar social. • El Plan Nacional Plurianual del Sector Público, que promueve la implementación del presupuesto orientado a resultados como mecanismo para mejorar la eficiencia del gasto público y asegurar una mayor vinculación entre recursos asignados y resultados obtenidos.
B15: 2. Diagnóstico
B17: 2.1 Describa, en forma muy concreta, el problema identificado y caracterizado en el diagnóstico
B18: La mortalidad materna y neonatal continúa representando un problema de salud pública en la República Dominicana, debido a la ocurrencia de muertes prevenibles asociadas a complicaciones obstétricas, trastornos hipertensivos, sepsis, prematuridad, asfixia neonatal y limitaciones en el acceso oportuno y de calidad a los servicios de atención materna y neonatal.
B19: 2.2 Señale las causas del problema
B20: Entre las principales causas del problema se identifican: - Hemorragias obstétricas. - Trastornos hipertensivos del embarazo, como preeclampsia y eclampsia. - Infecciones asociadas al embarazo y parto. - Complicaciones derivadas del aborto. - Enfermedades preexistentes agravadas durante el embarazo. - Acceso limitado o tardío a controles prenatales y atención obstétrica especializada. - Debilidades en la referencia y atención oportuna de emergencias obstétricas. - Condiciones de pobreza, desigualdad social y barreras geográficas para acceder a servicios de salud. También se identifican causas neonatales asociadas a: - Prematuridad, - Síndrome de dificultad respiratoria, - Asfixia perinatal, - Sepsis neonatal, - Enfermedades congénitas y metabólicas diagnosticadas tardíamente.
B21: 2.3 Señale los efectos del problema
B22: Los principales efectos asociados a la mortalidad materna son: - Incremento del riesgo de mortalidad neonatal e infantil. - Impacto negativo en el bienestar familiar y social. - Aumento de las brechas de desigualdad y vulnerabilidad social. - Disminución de la calidad de vida de las familias afectadas. - Evidencia de debilidades en la capacidad de respuesta del sistema de salud. - Limitaciones para el cumplimiento de los Objetivos de Desarrollo Sostenible relacionados con salud materna. - Discapacidad y secuelas neonatales por enfermedades congénitas.
B23: 2.4 Señale las características de la población afectada por el problema (potencial)
... B62: El presupuesto aprobado del programa asciende a RD$ 3,643,187,813.64 para el período de implementación 2027, distribuido entre los productos y actividades orientados a la reducción de la mortalidad materna y neonatal. Se detalla el costeo por producto: 5180-01-0001 Neonatos (0-28 dias de nacidos) reciben el tamizaje neonatal oportunamente RD$ 196,204,420.96 5180-01-0014 01 - Acciones Comunes P40 RD$ 1,425,305,241.57 09 - Gestantes reciben servicios de consulta prenatal RD$ 333,332,514,.90 10 - Gestantes reciben servicio de atención al parto (normal y complicado) RD$ 18,502,905.11 05 - Gestantes y puérperas reciben diagnóstico y tratamiento oportuno preventivo a sepsis neonatal temprana RD$ 106,003,890.00 12 - Neonatos (0-28 días de nacidos) reciben servicio de atención oportuna (normal y complicados) RD$ 23,363,483.03 Neonatos (0-28 días de nacidos) reciben el tamizaje neonatal oportunamente RD$ 80,344,139.85 5180-01-0015 00 - Acciones que no generan producción P40 RD$ 1,049,608,355.65 13 - Gestantes reciben servicios de consulta prenatal de calidad RD$ 29,980,997.25 14 - Gestantes reciben servicio de atención al parto (normal y complicado) RD$ 4,712,340.52 15 - Gestantes y puérperas reciben diagnóstico oportuno y tratamiento preventivo de sepsis neonatal RD$ 42,273,863.84 16 - Neonatos (0-28 días de nacidos) reciben servicio de atención oportuna (normal y complicados) RD$ 137,351,240.00 Neonatos (0-28 dias de nacidos) reciben el tamizaje neonatal oportunamente RD$ 196,204,420.96

Sheet Ficha 2
B2: Ficha 2: Criterios evaluativos
B4: 1. Pertinencia | G4: =IFERROR(IF(COUNTIFS($G$6:$G$15,"N/A")=COUNTA($B$6:$E$15),"N/A",SUM($G$6:$G$15)/(COUNTIFS($G$6:$G$15,"<>N/A",$G$6:$G$15,"<>"&"")*4)),"No evaluado") -> 0.95 | H4: =IF($G4="No evaluado","",IF($G4="N/A","",IF($G4>=0.8,"Muy bueno",IF($G4>=0.6,"Bueno",IF($G4>=0.4,"Regular",IF($G4>=0,"Malo",)))))) -> Muy bueno
B6: 1.1 ¿El modelo explicativo reúne efectivamente las principales o más relevantes causas del problema?
B7: El programa cuenta con un modelo explicativo y un diagnóstico que identifican las principales causas asociadas a la mortalidad materna y neonatal. Entre las causas priorizadas se encuentran: - hemorragias obstétricas, - trastornos hipertensivos del embarazo, - infecciones maternas y neonatales, - complicaciones del aborto, - enfermedades preexistentes agravadas durante el embarazo, - prematuridad, - asfixia neonatal, - y debilidades en el acceso oportuno y calidad de los servicios de salud. Asimismo, el programa incorpora matrices causales, camino causal crítico y priorización epidemiológica que permiten identificar las causas más relevantes y su relación con la condición de interés. La información utilizada proviene de fuentes recientes y confiables, tales como: - Organización Mundial de la Salud (OMS), Organización Panamericana de la Salud (OPS), UNICEF, SINAVE, RIESS, auditorías de mortalidad materna y neonatal, y literatura científica especializada. Las causas identificadas son pertinentes y coherentes con la problemática abordada, permitiendo explicar adecuadamente el problema público que da origen al programa. | G7: 4 | J7: 0 • El programa no cuenta con un modelo explicativo o este no cumple con todos los criterios correspondientes a la puntuación 1. 1 • El programa cuenta con un modelo explicativo, • El modelo no explica las causas del problema. 2 • El programa cuenta con un modelo explicativo, • El modelo explica las causas del problema, pero no las más relevantes. 3 • El programa cuenta con un modelo explicativo, • El modelo explica las causas más relevantes del problema. 4 • El programa cuenta con un modelo explicativo, • El modelo explica las causas más relevantes del problema, • La información proviene de fuentes recientes y confiables.
B8: 1.2 ¿La información que se aporta en el diagnóstico permite explicar las relaciones de causa-efecto?
B9: El programa cuenta con un diagnóstico que explica las principales relaciones de causa-efecto asociadas a la mortalidad materna y neonatal. Entre las principales causas identificadas se encuentran: - hemorragias obstétricas, - trastornos hipertensivos del embarazo, - infecciones maternas y neonatales, - complicaciones del aborto, - enfermedades preexistentes agravadas durante el embarazo, - acceso limitado o tardío a controles prenatales, y debilidades en la atención oportuna de emergencias obstétricas y neonatales. Asimismo, el diagnóstico identifica efectos relevantes derivados de la problemática, tales como: - incremento de la mortalidad neonatal e infantil, - afectación del bienestar familiar y social, - aumento de la vulnerabilidad y desigualdad social, - disminución de la calidad de vida de las familias, - y limitaciones en la capacidad de respuesta del sistema de salud. La documentación incorpora además un modelo explicativo, matrices causales y un camino causal crítico que permiten relacionar las deficiencias en la atención prenatal, parto, puerperio y atención neonatal con la ocurrencia de muertes prevenibles y complicaciones materno-neonatales. El programa establece un mecanismo de revisión y actualización del diagnóstico cada tres años, o antes cuando se produzcan cambios relevantes en el perfil epidemiológico, la evidencia científica o la política pública del sector salud. Este plazo permitirá incorporar nueva información sobre mortalidad materna y neonatal, evaluar la efectividad de las intervenciones y realizar los ajustes necesarios para mantener la pertinencia del programa. | G9: 4 | J9: 0 • El programa no cuenta con un diagnóstico del problema al que atiende o este no cumple con todos los criterios correspondientes a la puntuación 1. 1 • El programa cuenta con un diagnóstico del problema al que atiende, • El diagnóstico no explica todas las relaciones causa-efecto. 2 • El programa cuenta con un diagnóstico del problema al que atiende, • El diagnóstico explica todas las causas del problema, pero no todos sus efectos, o todos los efectos, pero no todas las causas. 3 • El programa cuenta con un diagnóstico del problema al que atiende, • El diagnóstico explica todas las relaciones de causa-efecto. 4 • El programa cuenta con un diagnóstico del problema al que atiende, • El diagnóstico explica todas las relaciones de causa-efecto, • El programa señala un plazo para la revisión y actualización de su diagnóstico en algún documento.
B10: 1.3 ¿La intervención que supone el programa se hace a nivel de las causas del problema señaladas en el diagnóstico?
B11: "Las intervenciones propuestas por el programa responden directamente a las principales causas identificadas en el diagnóstico de mortalidad materna y neonatal. Entre las principales intervenciones se encuentran: - servicios de consulta prenatal de calidad, - atención especializada del parto normal y complicado, - manejo oportuno de emergencias obstétricas, - atención neonatal especializada, - seguimiento a gestantes, puérperas y recién nacidos, - tamizaje neonatal, - y diagnóstico y tratamiento preventivo de sepsis neonatal. Estas intervenciones guardan relación directa con causas priorizadas como: - trastornos hipertensivos del embarazo, - hemorragias obstétricas, - infecciones perinatales, - prematuridad, - sepsis neonatal, - y dificultades de acceso oportuno a servicios especializados. Asimismo, el programa incorpora evidencia nacional e internacional que sustenta la efectividad de las intervenciones propuestas, incluyendo referencias de: OMS, OPS, UNICEF, guías clínicas nacionales, auditorías de mortalidad materna y neonatal, y literatura científica especializada. La evidencia consultada señala efectos positivos asociados a: - controles prenatales oportunos, - atención obstétrica especializada, - tamizaje neonatal, - seguimiento neonatal, - y fortalecimiento de la atención continua materno-neonatal para reducir complicaciones y muertes prevenibles. No obstante, aunque se presentan fundamentos técnicos y evidencia científica sobre la efectividad de las intervenciones, no se desarrolla de manera explícita un análisis comparativo formal que demuestre que las intervenciones seleccionadas son más eficaces que otras alternativas posibles. | G11: 3 | J11: 0 • La intervención que supone el programa no se hace a nivel de las causas del problema señaladas en el diagnóstico o este no cumple con todos los criterios correspondientes a la puntuación 1. 1 • La intervención que supone el programa se hace a nivel de las causas del problema señaladas en el diagnóstico, • La intervención por realizar no está desarrollada de forma específica y clara. 2 • La intervención que supone el programa se hace a nivel de las causas del problema señaladas en el diagnóstico, • La intervención por realizar está desarrollada de forma específica y clara. 3 • La intervención que supone el programa se hace a nivel de las causas del problema señaladas en el diagnóstico, • La intervención por realizar está desarrollada de forma específica y clara, • Existe(n) evidencia(s) (local, nacional o internacional) de los efectos positivos atribuibles a los beneficios o los apoyos otorgados a la población objetivo descritos en la intervención del programa. 4 • La intervención que supone el programa se hace a nivel de las causas del problema señaladas en el diagnóstico, • La intervención por realizar está desarrollada de forma específica y clara, • Existe(n) evidencia(s) (local, nacional o internacional) de los efectos positivos atribuibles a los beneficios o los apoyos otorgados a la población objetivo descritos en la intervención del programa, • Existe(n) evidencia(s) (nacional o internacional) de que la intervención es más eficaz para atender la problemática que otras alternativas.
B12: 1.4 ¿El resultado final o finalidad del programa da cuenta de una solución o mitigación del problema o necesidad detectada en el diagnóstico?
B13: El programa establece como finalidad contribuir a la reducción de la mortalidad materna y neonatal mediante el fortalecimiento de los servicios de salud materno-neonatal y la atención oportuna e integral a gestantes, puérperas y recién nacidos. La dirección del cambio esperado responde directamente a la mitigación del problema identificado en el diagnóstico. Asimismo, el resultado final incorpora: - la población objetivo sobre la cual se reflejará el cambio, - la magnitud esperada mediante indicadores de mortalidad materna y neonatal con línea base y metas definidas, - y el período de cumplimiento programado al 2030. La formulación del resultado final es clara, específica y coherente con: - la problemática identificada, - las intervenciones priorizadas, - y los objetivos estratégicos de salud pública y desarrollo nacional. | G13: 4 | J13: 0 • No fue establecido un resultado final o finalidad del programa o este no cumple con todos los criterios correspondientes a la puntuación 1. 1 • La redacción del resultado final o finalidad del programa indica una solución o mitigación del problema o necesidad detectada en el diagnóstico, es decir, la dirección del cambio es el esperado según el problema o necesidad y se incluye la situación específica que estaría cambiando. • La redacción incluye 1 de las siguientes características: (i) la población objetivo en quien se reflejará el cambio, (ii) la magnitud del cambio esperado, con línea base y meta, (iii) el periodo en que se logrará el cambio, con año base y meta. 2 • La redacción del resultado final o finalidad del programa indica una solución o mitigación del problema o necesidad detectada en el diagnóstico, es decir, la dirección del cambio es el esperado según el problema o necesidad y se incluye la situación específica que estaría cambiando. • La redacción incluye 2 de las siguientes características: (i) la población objetivo en quien se reflejará el cambio, (ii) la magnitud del cambio esperado, con línea base y meta, (iii) el periodo en que se logrará el cambio, con año base y meta. 3 • La redacción del resultado final o finalidad del programa indica una solución o mitigación del problema o necesidad detectada en el diagnóstico, es decir, la dirección del cambio es el esperado según el problema o necesidad y se incluye la situación específica que estaría cambiando. • La redacción incluye las siguientes 3 características: (i) la población objetivo en quien se reflejará el cambio, (ii) la magnitud del cambio esperado, con línea base y meta, (iii) el periodo en que se logrará el cambio, con año base y meta. 4 • La redacción del resultado final o finalidad del programa indica una solución o mitigación del problema o necesidad detectada en el diagnóstico, es decir, la dirección del cambio es el esperado según el problema o necesidad y se incluye la situación específica que estaría cambiando. • La redacción incluye las siguientes 3 características: (i) la población objetivo en quien se reflejará el cambio, (ii) la magnitud del cambio esperado, con línea base y meta, (iii) el periodo en que se logrará el cambio, con año base y meta. • El resultado final o finalidad del programa está claramente especificado, es decir, no existe ambigüedad en su redacción.
B14: 1.5 ¿Las actividades del programa son adecuadas al perfil de los beneficiarios y la localidad en que habitan? | J14: 0 • No fue establecido un resultado final o finalidad del programa o este no cumple con todos los criterios correspondientes a la puntuación 1. 1 • La redacción del resultado final o finalidad del programa indica una solución o mitigación del problema o necesidad detectada en el diagnóstico, es decir, la dirección del cambio es el esperado según el problema o necesidad y se incluye la situación específica que estaría cambiando. • La redacción incluye 1 de las siguientes características: (i) la población objetivo en quien se reflejará el cambio, (ii) la magnitud del cambio esperado, con línea base y meta, (iii) el periodo en que se logrará el cambio, con año base y meta. 2 • La redacción del resultado final o finalidad del programa indica una solución o mitigación del problema o necesidad detectada en el diagnóstico, es decir, la dirección del cambio es el esperado según el problema o necesidad y se incluye la situación específica que estaría cambiando. • La redacción incluye 2 de las siguientes características: (i) la población objetivo en quien se reflejará el cambio, (ii) la magnitud del cambio esperado, con línea base y meta, (iii) el periodo en que se logrará el cambio, con año base y meta. 3 • La redacción del resultado final o finalidad del programa indica una solución o mitigación del problema o necesidad detectada en el diagnóstico, es decir, la dirección del cambio es el esperado según el problema o necesidad y se incluye la situación específica que estaría cambiando. • La redacción incluye las siguientes 3 características: (i) la población objetivo en quien se reflejará el cambio, (ii) la magnitud del cambio esperado, con línea base y meta, (iii) el periodo en que se logrará el cambio, con año base y meta. 4 • La redacción del resultado final o finalidad del programa indica una solución o mitigación del problema o necesidad detectada en el diagnóstico, es decir, la dirección del cambio es el esperado según el problema o necesidad y se incluye la situación específica que estaría cambiando. • La redacción incluye las siguientes 3 características: (i) la población objetivo en quien se reflejará el cambio, (ii) la magnitud del cambio esperado, con línea base y meta, (iii) el periodo en que se logrará el cambio, con año base y meta. • El resultado final o finalidad del programa está claramente especificado, es decir, no existe ambigüedad en su redacción.
B15: Las actividades del programa son consistentes con el perfil de la población beneficiaria y con la problemática identificada en el diagnóstico. La población objetivo está conformada principalmente por: - gestantes, - parturientas, - puérperas, - recién nacidos, - neonatos prematuros o con bajo peso, y población en condiciones de vulnerabilidad social y riesgo obstétrico y neonatal. Las principales actividades del programa incluyen: - controles prenatales integrales, - identificación y seguimiento de embarazos de alto riesgo, - atención especializada del parto normal y complicado, - manejo de emergencias obstétricas, - atención neonatal especializada, - tamizaje neonatal, - diagnóstico y tratamiento preventivo de infecciones y sepsis neonatal, - acompañamiento y seguimiento postparto, - y monitoreo clínico de recién nacidos. Estas actividades son pertinentes para responder a las principales causas de morbimortalidad materna y neonatal identificadas en el diagnóstico, tales como: - trastornos hipertensivos, - hemorragias obstétricas, - infecciones perinatales, - prematuridad, - y deficiencias en el acceso oportuno a servicios especializados. Además, el programa prioriza maternidades y hospitales de referencia ubicados en territorios con alta concentración de partos y población vulnerable, garantizando coherencia entre: - el diagnóstico del problema, - el perfil de los beneficiarios, - la localidad donde habitan, - y las actividades programadas. Las actividades también son congruentes con el diseño del programa, el modelo causal y las intervenciones priorizadas para reducir la mortalidad materna y neonatal. | G15: 4 | J15: 0 • No hay información sobre el perfil de los beneficiarios o este no cumple con todos los criterios correspondientes a la puntuación 1. 1 • Las características de los beneficiarios están descritas de forma incompleta. • Las actividades del programa son adecuadas al perfil definido de los beneficiarios, pero no a la localidad en la que habitan. 2 • Las características de los beneficiarios están descritas de forma incompleta. • Las actividades del programa son adecuadas al perfil definido de los beneficiarios y la localidad en la que habitan. 3 • Las características de los beneficiarios están claramente descritas, • Las actividades del programa son adecuadas al perfil de los beneficiarios y la localidad en la que habitan. 4 • Las características de los beneficiarios están claramente descritas, • Las actividades del programa son adecuadas al perfil de los beneficiarios y la localidad en la que habitan, • Las actividades del programa son congruentes con el diseño y diagnóstico del problema.
B17: 2. Coherencia | G17: =IFERROR(IF(COUNTIFS($G$21:$G$39,"N/A")=COUNTA($B$21:$E$32,$B$36:$E$39),"N/A",SUM($G$21:$G$39)/(COUNTIFS($G$21:$G$39,"<>N/A",$G$21:$G$39,"<>"&"")*4)),"No evaluado") -> 0.9375 | H17: =IF($G17="No evaluado","",IF($G17="N/A","",IF($G17>=0.8,"Muy bueno",IF($G17>=0.6,"Bueno",IF($G17>=0.4,"Regular",IF($G17>=0,"Malo",)))))) -> Muy bueno
B19: 2.1 Coherencia interna
B21: 2.1.1 ¿Las actividades junto con los supuestos a nivel de actividades crean las condiciones necesarias y suficientes para lograr los productos propuestos por el programa?
B22: Si. Todos los productos cuentan con actividades claramente definidas y directamente relacionadas con la entrega del producto correspondiente. Asimismo, los supuestos a nivel de actividades guardan coherencia con las condiciones operativas necesarias para ejecutar dichas actividades. Las actividades descritas permiten operacionalizar adecuadamente cada producto, incluyendo identificación de los casos, diagnóstico, administración y tratamiento, monitoreo, seguimiento clinico y acompañamiento. De igual forma, los supuestos identificados son pertinentes y suficientes para garantizar la ejecución de las actividades previstas. Oportunidades de mejora identificadas: Aunque las actividades son pertinentes y suficientes, se identifican oportunidades de fortalecimiento relacionadas con: Incorporar actividades más explícitas de educación comunitaria y seguimiento domiciliario temprano para aumentar adherencia al control prenatal y neonatal. Fortalecer actividades de coordinación interinstitucional y referencia/contrarreferencia para casos de alta complejidad. Incluir mecanismos sistemáticos de supervisión de calidad y monitoreo del cumplimiento de protocolos clínicos. Reforzar estrategias preventivas ante retrasos en compras, rotación de personal o sobrecarga de servicios, debido a que estos factores podrían afectar la continuidad operativa de algunas actividades. | G22: 4 | J22: 0 • Los productos del programa no cuentan con actividades y supuestos de actividades o este no cumple con todos los criterios correspondientes a la puntuación 1. 1 • Cada producto del programa cuenta con actividades y supuestos de actividades, • Solamente del 0 al 49% de las actividades planteadas son necesarias para lograr los productos del programa; el resto es prescindible. 2 • Cada producto del programa cuenta con actividades y supuestos de actividades, • Las actividades junto con los supuestos crean las condiciones para lograr los productos del programa, • Solamente del 50 al 69% de las actividades planteadas son necesarias para lograr los productos del programa; el resto es prescindible. 3 • Cada producto del programa cuenta con actividades y supuestos de actividades, • Las actividades junto con los supuestos crean las condiciones para lograr los productos del programa, • Solamente del 70 al 84% de las actividades planteadas son necesarias para lograr los productos del programa; el resto es prescindible. 4 • Cada producto del programa cuenta con actividades y supuestos de actividades, • Las actividades junto con los supuestos crean las condiciones para lograr los productos del programa, • Solamente del 85 al 100% de las actividades planteadas son necesarias para lograr los productos del programa.
B23: 2.1.2 ¿Los productos junto con los supuestos a nivel de producto crean las condiciones necesarias y suficientes para lograr el resultado inmediato o propósito buscado?
B24: Los productos y los supuestos planteados crean las condiciones necesarias y suficientes para el logro del resultado inmediato. De igual forma, los supuestos planteados son pertinentes y coherentes con cada producto, considerando aspectos como disponibilidad de personal capacitado, continuidad del financiamiento, abastecimiento de medicamentos e insumos, funcionamiento de laboratorios y equipos, adherencia de las usuarias al seguimiento clínico y funcionamiento adecuado de los mecanismos de referencia y contrarreferencia. Resultado inmediato 1: Mejorar el acceso y oportunidad de la atención perinatal y neonatal, Hospital Maternidad Nuestra Señora de La Altagracia Resultado inmediato 2: Mejorar el acceso y oportunidad de la atención perinatal y neonatal, Hospital Materno Infantil San Lorenzo de Los Mina Supuesto: Los establecimientos de salud mantienen disponibilidad continua de personal capacitado, insumos, medicamentos y equipos esenciales para la atención perinatal y neonatal. Los recién nacidos acceden a servicios oportunos de atención perinatal en la red pública de salud. Resultado inmediato 3: Fortalecer la detección temprana de condiciones neonatales, congénitas y metabólicas Supuesto: Los padres o cuidadores autorizan y participan oportunamente en la realización de las pruebas de tamizaje neonatal y en el seguimiento de los casos identificados. Los establecimientos de salud cuentan con disponibilidad continua de pruebas diagnósticas, insumos y capacidad de laboratorio para la detección oportuna de condiciones congénitas y metabólicas. Producto: Neonatos reciben servicios de tamizaje básico a enfermedades congénitas y metabólicas Supuesto: Madre, padre o tutor lleve al recien nacido al centro y otorge el consentimiento informado para realizar el tamizaje. Observación: No todos los productos están relacionados al resultado inmediato al que corresponden. | G24: 2 | J24: 0 • El resultado inmediato no cuenta con productos y supuestos de productos para ser logrado o este no cumple con todos los criterios correspondientes a la puntuación 1. 1 • Cada resultado inmediato cuenta con productos y supuestos de productos, • No todos los supuestos están relacionados con los productos a los que corresponden. 2 • Cada resultado inmediato cuenta con productos y supuestos de productos, • Todos los supuestos están relacionados con los productos a los que corresponden, • No todos los productos están relacionados al resultado inmediato al que corresponden. 3 • Cada resultado inmediato cuenta con productos y supuestos de productos, • Todos los supuestos están relacionados con los productos a los que corresponden, • Todos los productos están relacionados al resultado inmediato al que corresponden, • Los productos y los supuestos planteados no crean las condiciones necesarias y suficientes para el logro del resultado inmediato. 4 • Cada resultado inmediato cuenta con productos y supuestos de productos, • Todos los supuestos están relacionados con los productos a los que corresponden, • Todos los productos están relacionados al resultado inmediato al que corresponden, • Los productos y los supuestos planteados crean las condiciones necesarias y suficientes para el logro del resultado inmediato.
B25: 2.1.3 ¿El resultado inmediato o propósito junto con los supuestos a nivel de resultado inmediato o propósito crean las condiciones necesarias y suficientes para alcanzar el resultado final o finalidad propuesto?
B26: Si, los resultados inmediatos e intermedios definidos presentan una relación directa y coherente con los resultados finales orientados a la reducción de la mortalidad materna y neonatal a nivel nacional. Las intervenciones priorizadas abordan las principales causas de morbilidad materna y neonatal, incluyendo trastornos hipertensivos del embarazo, hemorragias obstétricas, sepsis materna y neonatal, asfixia, síndrome de dificultad respiratoria y prematuridad. Asimismo, los supuestos planteados guardan correspondencia con las condiciones necesarias para alcanzar los resultados finales, tales como disponibilidad continua de personal especializado, funcionamiento de unidades neonatales, acceso oportuno al control prenatal, abastecimiento de medicamentos e insumos críticos, aplicación de protocolos clínicos, funcionamiento de la referencia y contrarreferencia y fortalecimiento de la capacidad resolutiva de los centros priorizados. De igual forma, se evidencia articulación entre los resultados inmediatos, intermedios y finales, permitiendo que las acciones de prevención, diagnóstico temprano, tratamiento oportuno y seguimiento materno-neonatal contribuyan integralmente a la disminución de la mortalidad materna y neonatal y al fortalecimiento del diagnóstico temprano de enfermedades congénitas y metabólicas. Resultado inmediato 1: Mejorar el acceso y oportunidad de la atención perinatal y neonatal, Hospital Maternidad Nuestra Señora de La Altagracia Resultado inmediato 2: Mejorar el acceso y oportunidad de la atención perinatal y neonatal, Hospital Materno Infantil San Lorenzo de Los Mina Supuesto: Los establecimientos de salud mantienen disponibilidad continua de personal capacitado, insumos, medicamentos y equipos esenciales para la atención perinatal y neonatal. Los recién nacidos acceden a servicios oportunos de atención perinatal en la red pública de salud. Resultado inmediato 3: Fortalecer la detección temprana de condiciones neonatales, congénitas y metabólicas Supuesto: Los padres o cuidadores autorizan y participan oportunamente en la realización de las pruebas de tamizaje neonatal y en el seguimiento de los casos identificados. Los establecimientos de salud cuentan con disponibilidad continua de pruebas diagnósticas, insumos y capacidad de laboratorio para la detección oportuna de condiciones congénitas y metabólicas. | G26: 4 | J26: 0 • El resultado final no cuenta con un resultado inmediato y supuestos de resultados inmediatos para ser logrado o este no cumple con todos los criterios correspondientes a la puntuación 1. 1 • Cada resultado inmediato cuenta con supuestos definidos, • No todos los supuestos están relacionados con el resultado inmediato a los que corresponden. 2 • Cada resultado inmediato cuenta con supuestos definidos, • Todos los supuestos están relacionados con el resultado inmediato a los que corresponden, • No todos los resultados inmediatos están relacionados al resultado final al que corresponden. 3 • Cada resultado inmediato cuenta con supuestos definidos, • Todos los supuestos están relacionados con el resultado inmediato a los que corresponden, • Todos los resultados inmediatos están relacionados al resultado final al que corresponden, • Los resultados inmediatos y los supuestos planteados no crean las condiciones necesarias y suficientes para el logro del resultado final. 4 • Cada resultado inmediato cuenta con supuestos definidos, • Todos los supuestos están relacionados con el resultado inmediato a los que corresponden, • Todos los resultados inmediatos están relacionados al resultado final al que corresponden, • Los resultados inmediatos y los supuestos planteados crean las condiciones necesarias y suficientes para el logro del resultado final.
B27: 2.1.4 En relación con el resultado final o finalidad, ¿corresponde lógicamente la operacionalización horizontal (indicadores, metas, fuentes de verificación)?
B28: Sí, la operacionalización horizontal del resultado final corresponde lógicamente. El resultado final del programa está orientado a la reducción de la mortalidad materna y neonatal y cuenta con indicadores para medir la razón de mortalidad materna y la tasa de mortalidad neonatal, metas definidas para el período 2027-2030 y medios de verificación sustentados en los registros y sistemas oficiales de información en salud. Durante la revisión se verificó que estos elementos mantienen correspondencia con el resultado final y permiten dar seguimiento al avance de los indicadores y al cumplimiento de las metas. Resultado Final 1: Reducir la mortalidad materna Indicador: Razón de mortalidad materna (por cada 100,000 nacidos vivos) Linea Base: 94.00 - 2019 Resutado esperado: 87 - 2030 Medio de Verificación: Boletín Epidemiológico Semanal consolidado, publicado por la Dirección General de Epidemiología (DIGEPI), disponible en: https://epidemiologia.gob.do/documentos-epidemiologicos/boletines-epidemiologicos/. Informe de Estadísticas Vitales (Nacimientos), publicado por la Oficina Nacional de Estadística (ONE). Resultado Final 2: Reducir la mortalidad neonatal Indicador: Tasa de mortalidad neonatal (por cada 1,000 nacidos vivos) Línea Base: 13.00 - 2021 Resutado esperado: 9 - 2030 Medio de Verificación: Boletín Epidemiológico Semanal consolidado, publicado por la Dirección General de Epidemiología (DIGEPI), disponible en el portal institucional oficial. Informe de Estadísticas Vitales (Nacimientos), publicado por la Oficina Nacional de Estadística (ONE). | G28: 4 | J28: 0 • El resultado final no contiene indicadores, metas ni métodos de verificación o este no cumple con todos los criterios correspondientes a la puntuación 1. 1 • El resultado final contiene indicadores, metas y métodos de verificación, • Las variables no guardan coherencia entre sí. 2 • El resultado final contiene indicadores, metas y métodos de verificación, • Las tres variables guardan coherencia entre sí, • Alguna de las variables no guarda coherencia con el resultado final. 3 • El resultado final contiene indicadores, metas y métodos de verificación, • Las tres variables guardan coherencia entre sí, • Las tres variables guardan coherencia con el resultado final, • Los métodos de verificación no permiten obtener la información necesaria para calcular el avance de los indicadores y las metas. 4 • El resultado final contiene indicadores, metas y métodos de verificación, • Las tres variables guardan coherencia entre sí, • Las tres variables guardan coherencia con el resultado final, • Los métodos de verificación permiten obtener la información necesaria para calcular el avance de los indicadores y las metas.
B29: 2.1.5 En relación con el resultado inmediato o propósito, ¿corresponde lógicamente la operacionalización horizontal (indicadores, metas, fuentes de verificación)?
B30: Si, la operacionalización horizontal de los resultados inmediatos corresponde lógicamente, debido a que los resultados presentan indicadores, metas y métodos de verificación coherente con los propósitos establecidos y orientados al fortalecimiento de la atención neonatal y la detección temprana de enfermedades congénitas y metabólicas. Los resultados inmediatos cuentan con indicadores medibles y metas temporalmente definidas al 2030. Asimismo, las variables guardan coherencia entre sí y con los resultados inmediatos correspondientes, ya que permiten medir directamente la cobertura de consultas pediátricas perinatales y la aplicación del tamizaje neonatal en la población objetivo definida. De igual manera, los métodos de verificación identificados, tales como registros clínicos, boletines epidemiológicos, repositorio insitucionales y sistemas de información del Servicio Nacional de Salud, permiten obtener la información necesaria para calcular el avance de los indicadores y las metas establecidas. Los resultados inmediatos son: Resultado inmediato 1: Mejorar el acceso y oportunidad de la atención perinatal y neonatal, Hospital Maternidad Nuestra Señora de La Altagracia Indicador: Porcentaje de recién nacidos que reciben atención pediátrica en el período perinatal en Hospital Maternidad Nuestra Señora de La Altagracia Línea base: 78.16% 2024 Resultado esperado: 94.16% 2030 Medio de verificación: Reporte de atención neonatal del centro priorizado, generado a partir del Repositorio de Información y Estadísticas de Servicios de Salud (RIESS) Resultado inmediato 2: Mejorar el acceso y oportunidad de la atención perinatal y neonatal, Hospital Materno Infantil San Lorenzo de Los Mina Indicador: Porcentaje de recién nacidos que reciben atención pediátrica en el período perinatal en Hospital Materno Infantil San Lorenzo de Los Mina Línea base: 82.06% 2024 Resultado esperado: 94.06% 2030 Medio de Verificación: Reporte de atención neonatal del centro priorizado, generado a partir del Repositorio de Información y Estadísticas de Servicios de Salud (RIESS) Resultado inmediato 3: Fortalecer la detección temprana de condiciones neonatales, congénitas y metabólicas Indicador: Porcentaje de recién nacidos que reciben tamizaje neonatal básico Línea base: No disponible Resultado esperado: 90% 2030 Medio de Verificación: Registros clínicos del tamizaje neonatal y Repositorio del SNS Observaciones: Existen oportunidades de mejora relacionadas a la disponiblidad de información nacional sobre la incidencia y prevalencia de enfermedades metabólicas y congénitas incluidas en el tamizaje neonatal, debido a que las estimaciones actuales se sustentan parcialmente en estadísticas de países similares como Puerto Rico y Costa Rica. Aunque esta limitación no impide la medición y seguimiento del indicador, si reduce la robustez del analisis de tendencia y la validación de la factibilidad de las metas proyectadas a largo plazo. Se recomienda fortalecer los sistemas nacionales de información y vigilancia relacionados con tamizaje neonatal, a fin de disponer de líneas base y estadisticas nacionales propias que permitan mejorar la trazabilidad y sostenibilidad del monitoreo del indicador. | G30: 4 | J30: 0 • Alguno de los resultados inmediatos no contiene indicadores, metas ni métodos de verificación o este no cumple con todos los criterios correspondientes a la puntuación 1. 1 • El o los resultados inmediatos contienen indicadores, metas y métodos de verificación, • Las variables no guardan coherencia entre sí. 2 • El o los resultados inmediatos contienen indicadores, metas y métodos de verificación, • Las variables no guardan coherencia entre sí, • Alguna de las variables no guarda coherencia con el resultado inmediato al que corresponde. 3 • El o los resultados inmediatos contienen indicadores, metas y métodos de verificación, • Las variables guardan coherencia entre sí, • Las tres variables guardan coherencia con el resultado inmediato al que corresponde, • Los métodos de verificación no permiten obtener la información necesaria para calcular el avance de los indicadores y las metas. 4 • El o los resultados inmediatos contienen indicadores, metas y métodos de verificación, • Las variables guardan coherencia entre sí, • Las tres variables guardan coherencia con el resultado inmediato al que corresponde, • Los métodos de verificación permiten obtener la información necesaria para calcular el avance de los indicadores y las metas.
B31: 2.1.6 En relación con los productos, ¿corresponde lógicamente la operacionalización horizontal (indicadores, metas, fuentes de verificación)?
B32: Si, la operacionalización horizontal de los productos corresponde lógicamente, debido a que todos los productos presentan indicadores, metas y métodos de verificación coherentes con los bienes y servicios ofrecidos y con los resultados asociados. Las variables guardan coherencia entre sí para cada producto, debido a que los indicadores se relacionan directamente con la población beneficiaria, los bienes y servicios entregados y las actividades definidas para su ejecución. Asimismo, las variables guardan coherencia con el producto correspondiente, ya que permiten medir la prestación efectiva de servicios maternos, neonatales y de tamizaje establecidos en el programa. Producto: 7395-Gestantes reciben servicios de consulta prenatal Indicador: Número de gestantes que reciben consulta prenatal Metas: 18,346 para el 2025 a 22,497 en el 2030 Producto: 7398-Gestantes reciben diagnóstico oportuno para la prevención de sepsis neonatal Indicador: Número de gestantes con pruebas de detección de estreptococos del grupo B Metas: 4,328 para el 2025 a 5,261 en el 2030 Producto: 7812-Gestantes reciben servicio de atención al parto (normal y complicado) Indicador: Número de gestantes atendidas por parto normal y/o complicado Metas: 4,729 para el 2025 a 5,748 en el 2030 Producto: 7813-Neonatos (0-28 días de nacidos) reciben servicio de atención oportuna (normal y complicados) Indicador: Número de neonatos (0–28 días) normales y con complicaciones que reciben atención neonatal Metas: 4,697 para el 2025 a 5,709 en el 2030 Producto: 7814-Gestantes reciben servicios de consulta prenatal Indicador: Número de gestantes que reciben consulta prenatal Metas: 22,363 para el 2025 a 27,182 en el 2030 Producto: 7815-Gestantes reciben servicio de atención al parto (normal y complicado) Indicador: Número de gestantes atendidas por parto normal y/o complicado Metas: 4,661 para el 2025 a 5,665 en el 2030 Producto: 7816-Gestantes reciben diagnóstico oportuno para la prevención de sepsis neonatal Indicador: Número de gestantes con pruebas de detección de estreptococos del grupo B Metas: 2,653 para el 2025 a 3,225 en el 2030 Producto: 7817-Neonatos (0-28 días de nacidos) reciben servicio de atención oportuna (normal y complicados) Indicador: Número de neonatos (0–28 días) normales y con complicaciones que reciben atención neonatal Metas: 4,654 para el 2025 a 5,657 en el 2030 Producto nuevo: Neonatos reciben servicios de tamizaje básico a enfermedades congénitas y metabólicas Indicador: Número total de recién nacidos tamizados dentro de los primeros 28 días de vida UE 5180-01-0001, Metas: N/D para el 2025 a 22,497 en el 2030 5180-01-0014, Metas: N/D para el 2025 a 3,554 en el 2030 5180-01-0015, Metas: N/D para el 2025 a 3,598 en el 2030 Observaciones: Se identifican riesgos operativos recurrentes asociados al retraso en contratación de personal y retrasos en procesos de compra, los cuales podrian afectar la continuidad y oportunidad de la entrega de los servicios. Adicionalmente se identifican productos programados con una temporalidad que excede el período de vigencia del programa, por lo que se recomienda evaluar su permanencia y considerar su exclusión del costeo plurianual. | G32: 4 | J32: 0 • Alguno de los productos no contiene indicadores, metas ni métodos de verificación o este no cumple con todos los criterios correspondientes a la puntuación 1. 1 • Todos los productos contienen indicadores, metas y métodos de verificación, • Las variables de algunos de los productos no guardan coherencia entre sí. 2 • Todos los productos contienen indicadores, metas y métodos de verificación, • Las variables guardan coherencia entre sí para cada uno de los productos, • Alguna de las variables no guarda coherencia con el producto al que corresponde. 3 • Todos los productos contienen indicadores, metas y métodos de verificación, • Las variables guardan coherencia entre sí para cada uno de los productos, • Las tres variables guardan coherencia con el producto al que corresponden, • Los métodos de verificación no permiten obtener la información necesaria para calcular el avance de los indicadores y las metas. 4 • Todos los productos contienen indicadores, metas y métodos de verificación, • Las variables guardan coherencia entre sí para cada uno de los productos, • Las tres variables guardan coherencia con el producto al que corresponden, • Los métodos de verificación permiten obtener la información necesaria para calcular el avance de los indicadores y las metas.
B34: 2.1 Coherencia externa
B36: 2.2.1 ¿La propuesta programática es coherente con políticas públicas específicas y generales que orientan la acción pública?
B37: La propuesta programática de Salud Materno Neonatal es coherente con políticas públicas generales y especificas orientadas a reducir la mortalidad materna y neonatal, fortalecer la calidad de los servicios de salud y disminuir la brechas de acceso. Entre estas se encuentran la Estrategia Nacional de Desarrollo 2030 (Ley 1-12), el Plan Nacional Plurianual del Sector Público, las políticas sectoriales del Ministerio de Salud Pública y del Servicio Nacional de Salud, el Plan Estratégico Institucional del SNS y los Objetivos de Desarrollo Sostenible, especialmente los ODS 3, 5 y 10. Estas politicas guardan relación directa con el problema identificado, debido a que priorizan la reducción de muertes evitables, el fortalecimiento de la atención materno - neonatal y la ampliación de cobertura y calidad de los servicios de salud. Los productos y actividades planteados son coherentes con la naturaleza institucional del Servicio Nacional de Salud y las maternidades priorizadas, ya que corresponden a funciones propias de prestación de servicios materno y neonatales, incluyendo consultas prenatales, atención al parto, atención neonatal, prevención de sepsis y tamizaje neonatal. | G37: 4 | J37: 0 • La propuesta programática no está relacionada con alguna política pública social o este no cumple con todos los criterios correspondientes a la puntuación 1. 1 • La propuesta programática es coherente con alguna o varias políticas públicas sociales generales y/o específicas, • La política pública con la que se relacionada la propuesta programática no guarda coherencia con el problema que se pretende resolver. 2 • La propuesta programática es coherente con alguna o varias políticas públicas sociales generales y/o específicas, • La política pública con la que se relacionada la propuesta programática guarda coherencia con el problema que se pretende resolver, • Los productos y actividades planteados en la propuesta programática no son coherentes con la naturaleza de la institución que los ejecutaría. 3 • La propuesta programática es coherente con alguna o varias políticas públicas sociales generales y/o específicas, • La política pública con la que se relacionada la propuesta programática guarda coherencia con el problema que se pretende resolver, • Los productos y actividades planteados en la propuesta programática son coherentes con la naturaleza de la institución que los ejecutaría, • La propuesta programática es susceptible a mejoras. 4 • La propuesta programática es coherente con alguna o varias políticas públicas sociales generales y/o específicas, • La política pública con la que se relaciona la propuesta programática guarda coherencia con el problema que se pretende resolver, • Los productos y actividades planteados en la propuesta programática son coherentes con la naturaleza de la institución que los ejecutaría, • La propuesta programática no necesita mejoras.
B38: 2.2.2 ¿El programa se inserta adecuadamente en el conjunto de la oferta pública, extra e intra-institucional?
B39: El programa se inserta adecuadamente en el conjunto de la oferta pública intra e interinstitucional, debido a que se realizó un análisis de la oferta vigente de bienes y servicios sustitutos y complementarios relacionados con la salud materna y neonatal. Del análisis se identifica que algunos productos presentan características semejantes a servicios ya existentes dentro de la red pública de salud, particularmente aquellos relacionados con: atención prenatal, atención del parto normal y complicado, atención neonatal, diagnóstico y prevención de sepsis. Estas similitudes se observan en aspectos como, el tipo de servicio entregado, la población beneficiaria, los establecimientos donde se prestan los servicios y la naturaleza de las intervenciones. Los productos son complementarios, no generan duplicidad, fortalecen servicios especializados dentro del SNS; el tamizaje neonatal constituye una intervención especializada incorporada para ampliar la cobertura diagnóstica. No obstante, dichos productos mantienen coherencia con la naturaleza institucional de las entidades ejecutoras, especialmente el Servicio Nacional de Salud y las maternidades priorizadas, debido a que corresponden a funciones propias de la prestación de servicios especializados materno-neonatales. Asimismo, el análisis evidencia la existencia de productos complementarios que fortalecen la respuesta pública desde perspectiva diferenciadas, particularmente: El Programa de Tamizaje Neonatal de Enfermedades Congénitas y el fortalecimiento de la red hospitalaria para tamizaje prenatal, los cuales amplían capacidades diagnósticas y de detección temprana dentro de la red pública. Adicionalmente, la propuesta incorpora enfoques de priorización por riesgo, seguimiento diferenciado y fortalecimiento del modelo prescriptivo, elementos que permiten complementar y fortalecer la oferta existente sin sustituir completamente otros servicios ya implementados. | G39: 4 | J39: 0 • No se cuenta con un análisis de la oferta relacionada con el programa o este no cumple con todos los criterios correspondientes a la puntuación 1. 1 • Se analizó la oferta pública vigente de bienes y servicios sustitutos y complementarios de los ofrecidos por el programa, • Todos los productos ofrecidos por el programa se encuentran repetidos y son ofrecidos mediante otros programas. 2 • Se analizó la oferta pública vigente de bienes y servicios sustitutos y complementarios de los ofrecidos por el programa, • Algunos de los productos ofrecidos por el programa se encuentran repetidos y son ofrecidos mediante otros programas, • Al menos uno de los productos repetidos es coherente con la naturaleza de la institución que los ejecutaría en el programa evaluado. 3 • Se analizó la oferta pública vigente de bienes y servicios sustitutos y complementarios de los ofrecidos por el programa, • Algunos de los productos ofrecidos por el programa se encuentran repetidos y son ofrecidos mediante otros programas, • Todos los productos repetidos son coherentes con la naturaleza de la institución que los ejecutaría en el programa evaluado. 4 • Se analizó la oferta pública vigente de bienes y servicios sustitutos y complementarios de los ofrecidos por el programa, • Ninguno de los productos ofrecidos por el programa se encuentra repetido ni es ofrecido mediante otros programas. • Si hay algún producto repetido, este es coherente con la naturaleza de la institución que los ejecutaría en el programa evaluado y se eliminará el duplicado en otras instituciones.
B41: 3. Eficiencia | G41: =IFERROR(IF(COUNTIFS($G$43:$G$50,"N/A")=COUNTA($B$43:$E$50),"N/A",SUM($G$43:$G$50)/(COUNTIFS($G$43:$G$50,"<>N/A",$G$43:$G$50,"<>"&"")*4)),"No evaluado") -> 0.6875 | H41: =IF($G41="No evaluado","",IF($G41="N/A","",IF($G41>=0.8,"Muy bueno",IF($G41>=0.6,"Bueno",IF($G41>=0.4,"Regular",IF($G41>=0,"Malo",)))))) -> Bueno
B43: 3.1 ¿El costo estimado del programa por beneficiario y/o producto es razonable o existen formas alternativas de menor costo para lograr los mismos productos?
B44: El programa cuenta con estimaciones de costos asociadas a los productos y actividades previstas para el período 2027-2030, incluyendo: - Servicios de consulta prenatal. - Diagnóstico oportuno para la prevención de sepsis neonatal. - Atención del parto normal y complicado. - Atención neonatal oportuna. - Tamizaje neonatal de enfermedades congénitas y metabólicas. Las hojas de costeo incluyen recursos relacionados con personal, insumos, equipamiento y fortalecimiento institucional vinculados a las intervenciones priorizadas del programa. Sin embargo, durante la revisión se identificaron observaciones en algunos registros de costeo: - En varios registros se observan descripciones generales de personal, insumos y servicios, lo que dificulta identificar con claridad su relación con actividades específicas del programa. - Se identificaron algunos costos y montos considerados elevados en determinados bienes y servicios incluidos en las matrices de costeo, así como diferencias en las proyecciones entre períodos, sin visualizarse claramente los criterios utilizados para su actualización. - También se observan algunos insumos y servicios cuya relación con determinadas actividades no queda claramente evidenciada, por lo que se recomienda revisar su vinculación dentro del costeo del programa. | G44: 1 | J44: 0 • El programa no cuenta con costos estimados por beneficiario y/o productos o este no cumple con todos los criterios correspondientes a la puntuación 1. 1 • El programa cuenta con el costo estimado por beneficiario y/o producto, • Existen formas alternativas de menor costo para lograr los mismos productos o los costos por beneficiario y/o producto están sobrevaluados. 2 • El programa cuenta con el costo estimado por beneficiario y/o producto, • El costo estimado del programa por beneficiario y/o producto es razonable. 3 • El programa cuenta con el costo estimado por beneficiario y/o producto, • El costo estimado del programa por beneficiario y/o producto es razonable, • El programa cuenta con costos estimados para la producción necesaria para el logro de las metas de uno o dos años. 4 • El programa cuenta con el costo estimado por beneficiario y/o producto, • El costo estimado del programa por beneficiario y/o producto es razonable, • El programa cuenta con costos estimados para la producción necesaria para el logro de las metas de cuatro años.
B45: 3.2 ¿Los productos propuestos al costo estimado se pueden lograr en los plazos programados?
B46: Los productos del programa cuentan con períodos de ejecución programados para el período 2027-2030, incluyendo atención prenatal, atención del parto, atención neonatal, tamizaje neonatal. Se identificaron algunas situaciones que podrían afectar el cumplimiento oportuno de determinados productos. - Aunque los productos presentan períodos de ejecución definidos, no se visualiza una programación detallada de actividades que permita dar seguimiento al cumplimiento de las metas durante los períodos establecidos. - En los registros de costeo se observan diferencias en las proyecciones entre períodos, lo que dificulta relacionar con claridad algunos costos con la ejecución prevista de determinados productos. | G46: 3 | J46: 0 • Los productos no tienen plazos programados o este no cumple con todos los criterios correspondientes a la puntuación 1. 1 • Todos los productos tienen plazos programados, • No es posible lograr todos los productos en los plazos programados. 2 • Todos los productos tienen plazos programados, • Es posible lograr todos los productos en los plazos programados, • No es posible lograr todos los productos al costo estimado en los plazos programados. 3 • Todos los productos tienen plazos programados, • Es posible lograr todos los productos en los plazos programados, • Es posible lograr todos los productos al costo estimado en los plazos programados, • Los costos estimados para los plazos programados están sobrevaluados para alguno de los productos. 4 • Todos los productos tienen plazos programados, • Es posible lograr todos los productos en los plazos programados, • Es posible lograr todos los productos al costo estimado en los plazos programados, • Los costos estimados para los plazos programados son razonables para todos los productos.
B47: 3.3 ¿En qué medida el modelo de gestión favorece el uso eficiente de los recursos (insumos, procesos, etc.)?
B48: El modelo de gestión contempla la articulación entre el SNS y las maternidades priorizadas para la prestación de los servicios del programa. Asimismo, las matrices de costeo incluyen insumos, actividades y productos vinculados a atención prenatal, atención del parto, atención neonatal, tamizaje neonatal y acompañamiento a gestantes, puérperas y recién nacidos. Se observan algunas situaciones en los registros de costeo que dificultan relacionar determinados recursos con las actividades y productos programados. - En varios registros se observan descripciones generales de personal, insumos y servicios, lo que dificulta identificar con precisión su vinculación con actividades específicas del programa. - En las proyecciones plurianuales se identifican diferencias entre algunos montos programados, debido a que ciertos costos permanecen iguales entre períodos y otros presentan variaciones sin que se visualice claramente el criterio utilizado para su actualización. - Se observan algunos insumos y servicios cuya relación con determinadas actividades no resulta claramente identificable, principalmente en actividades de acompañamiento y visitas domiciliarias. - En algunos casos no se evidencia suficiente detalle sobre cantidades, frecuencia de uso y criterios utilizados para sustentar determinados montos incluidos en el costeo. | G48: 3 | J48: 0 • El costeo no incluye los insumos, actividades y productos o este no cumple con todos los criterios correspondientes a la puntuación 1. 1 • En la estimación de costos del programa se incluyen los siguientes componentes: insumos, actividades y productos, • Sólo es posible entregar el 20% de los productos en el plazo establecido con los costos estimados para dichos productos. 2 • En la estimación de costos del programa se incluyen los siguientes componentes: insumos, actividades y productos, • Sólo es posible entregar el 50% de los productos en el plazo establecido con los costos estimados para dichos productos. 3 • En la estimación de costos del programa se incluyen los siguientes componentes: insumos, actividades y productos, • Sólo es posible entregar el 80% de los productos en el plazo establecido con los costos estimados para dichos productos. 4 • En la estimación de costos del programa se incluyen los siguientes componentes: insumos, actividades y productos, • Es posible entregar el 100% de los productos en el plazo establecido con los costos estimados para dichos productos. | K48: 0 • El costeo no incluye los insumos, actividades y productos o este no cumple con todos los criterios correspondientes a la puntuación 1. 1 • En la estimación de costos del programa se incluyen los siguientes componentes: insumos, actividades y productos, • Sólo es posible entregar el 20% de los productos en el plazo establecido con los costos estimados para dichos productos. 2 • En la estimación de costos del programa se incluyen los siguientes componentes: insumos, actividades y productos, • Sólo es posible entregar el 50% de los productos en el plazo establecido con los costos estimados para dichos productos. 3 • En la estimación de costos del programa se incluyen los siguientes componentes: insumos, actividades y productos, • Sólo es posible entregar el 80% de los productos en el plazo establecido con los costos estimados para dichos productos. 4 • En la estimación de costos del programa se incluyen los siguientes componentes: insumos, actividades y productos, • Es posible entregar el 100% de los productos en el plazo establecido con los costos estimados para dichos productos.
B49: 3.4 ¿El seguimiento propuesto entregará señales oportunas para el buen funcionamiento del programa y el logro de los productos en los plazos programados?
